BEGIN:VCALENDAR
VERSION:2.0
PRODID:-//Mountain Man Golf - ECPv6.15.20//NONSGML v1.0//EN
CALSCALE:GREGORIAN
METHOD:PUBLISH
X-WR-CALNAME:Mountain Man Golf
X-ORIGINAL-URL:https://mountainmangolf.com
X-WR-CALDESC:Events for Mountain Man Golf
REFRESH-INTERVAL;VALUE=DURATION:PT1H
X-Robots-Tag:noindex
X-PUBLISHED-TTL:PT1H
BEGIN:VTIMEZONE
TZID:America/New_York
BEGIN:DAYLIGHT
TZOFFSETFROM:-0500
TZOFFSETTO:-0400
TZNAME:EDT
DTSTART:20260308T070000
END:DAYLIGHT
BEGIN:STANDARD
TZOFFSETFROM:-0400
TZOFFSETTO:-0500
TZNAME:EST
DTSTART:20261101T060000
END:STANDARD
BEGIN:DAYLIGHT
TZOFFSETFROM:-0500
TZOFFSETTO:-0400
TZNAME:EDT
DTSTART:20270314T070000
END:DAYLIGHT
BEGIN:STANDARD
TZOFFSETFROM:-0400
TZOFFSETTO:-0500
TZNAME:EST
DTSTART:20271107T060000
END:STANDARD
BEGIN:DAYLIGHT
TZOFFSETFROM:-0500
TZOFFSETTO:-0400
TZNAME:EDT
DTSTART:20280312T070000
END:DAYLIGHT
BEGIN:STANDARD
TZOFFSETFROM:-0400
TZOFFSETTO:-0500
TZNAME:EST
DTSTART:20281105T060000
END:STANDARD
END:VTIMEZONE
BEGIN:VEVENT
DTSTART;TZID=America/New_York:20270818T110000
DTEND;TZID=America/New_York:20270818T170000
DTSTAMP:20260421T152605
CREATED:20250304T044027Z
LAST-MODIFIED:20251014T144713Z
UID:10001172-1818586800-1818608400@mountainmangolf.com
SUMMARY:Wendsday Match
DESCRIPTION:You Can Regester for the points match here.
URL:https://mountainmangolf.com/event/wensday-match/2027-08-18/
LOCATION:Apple Mountain Golf club\, 901 Rock Ford Rd\, Clarkesville\, GA\, 30523\, United States
CATEGORIES:Golf Points
ATTACH;FMTTYPE=image/jpeg:https://mountainmangolf.com/wp-content/uploads/2021/06/JPEG_black_and_white1317-1.jpg
ORGANIZER;CN="Jimmy Goodman":MAILTO:mountainmangolfapple@gmail.com
END:VEVENT
BEGIN:VEVENT
DTSTART;TZID=America/New_York:20270823T110000
DTEND;TZID=America/New_York:20270823T170000
DTSTAMP:20260421T152605
CREATED:20250802T002000Z
LAST-MODIFIED:20251120T231723Z
UID:10001473-1819018800-1819040400@mountainmangolf.com
SUMMARY:Monday Match
DESCRIPTION:You can regester for the points match here.
URL:https://mountainmangolf.com/event/monday-match-4/2027-08-23/
LOCATION:Apple Mountain Golf club\, 901 Rock Ford Rd\, Clarkesville\, GA\, 30523\, United States
CATEGORIES:Golf Points
ATTACH;FMTTYPE=image/jpeg:https://mountainmangolf.com/wp-content/uploads/2021/06/JPEG_black_and_white1317-1.jpg
ORGANIZER;CN="Jimmy Goodman":MAILTO:mountainmangolfapple@gmail.com
END:VEVENT
BEGIN:VEVENT
DTSTART;TZID=America/New_York:20270825T110000
DTEND;TZID=America/New_York:20270825T170000
DTSTAMP:20260421T152605
CREATED:20250304T044027Z
LAST-MODIFIED:20251014T144713Z
UID:10001173-1819191600-1819213200@mountainmangolf.com
SUMMARY:Wendsday Match
DESCRIPTION:You Can Regester for the points match here.
URL:https://mountainmangolf.com/event/wensday-match/2027-08-25/
LOCATION:Apple Mountain Golf club\, 901 Rock Ford Rd\, Clarkesville\, GA\, 30523\, United States
CATEGORIES:Golf Points
ATTACH;FMTTYPE=image/jpeg:https://mountainmangolf.com/wp-content/uploads/2021/06/JPEG_black_and_white1317-1.jpg
ORGANIZER;CN="Jimmy Goodman":MAILTO:mountainmangolfapple@gmail.com
END:VEVENT
BEGIN:VEVENT
DTSTART;TZID=America/New_York:20270830T110000
DTEND;TZID=America/New_York:20270830T170000
DTSTAMP:20260421T152605
CREATED:20250802T002000Z
LAST-MODIFIED:20251120T231723Z
UID:10001474-1819623600-1819645200@mountainmangolf.com
SUMMARY:Monday Match
DESCRIPTION:You can regester for the points match here.
URL:https://mountainmangolf.com/event/monday-match-4/2027-08-30/
LOCATION:Apple Mountain Golf club\, 901 Rock Ford Rd\, Clarkesville\, GA\, 30523\, United States
CATEGORIES:Golf Points
ATTACH;FMTTYPE=image/jpeg:https://mountainmangolf.com/wp-content/uploads/2021/06/JPEG_black_and_white1317-1.jpg
ORGANIZER;CN="Jimmy Goodman":MAILTO:mountainmangolfapple@gmail.com
END:VEVENT
BEGIN:VEVENT
DTSTART;TZID=America/New_York:20270901T110000
DTEND;TZID=America/New_York:20270901T170000
DTSTAMP:20260421T152605
CREATED:20250304T044027Z
LAST-MODIFIED:20251014T144713Z
UID:10001174-1819796400-1819818000@mountainmangolf.com
SUMMARY:Wendsday Match
DESCRIPTION:You Can Regester for the points match here.
URL:https://mountainmangolf.com/event/wensday-match/2027-09-01/
LOCATION:Apple Mountain Golf club\, 901 Rock Ford Rd\, Clarkesville\, GA\, 30523\, United States
CATEGORIES:Golf Points
ATTACH;FMTTYPE=image/jpeg:https://mountainmangolf.com/wp-content/uploads/2021/06/JPEG_black_and_white1317-1.jpg
ORGANIZER;CN="Jimmy Goodman":MAILTO:mountainmangolfapple@gmail.com
END:VEVENT
BEGIN:VEVENT
DTSTART;TZID=America/New_York:20270906T110000
DTEND;TZID=America/New_York:20270906T170000
DTSTAMP:20260421T152605
CREATED:20250802T002000Z
LAST-MODIFIED:20251120T231723Z
UID:10001475-1820228400-1820250000@mountainmangolf.com
SUMMARY:Monday Match
DESCRIPTION:You can regester for the points match here.
URL:https://mountainmangolf.com/event/monday-match-4/2027-09-06/
LOCATION:Apple Mountain Golf club\, 901 Rock Ford Rd\, Clarkesville\, GA\, 30523\, United States
CATEGORIES:Golf Points
ATTACH;FMTTYPE=image/jpeg:https://mountainmangolf.com/wp-content/uploads/2021/06/JPEG_black_and_white1317-1.jpg
ORGANIZER;CN="Jimmy Goodman":MAILTO:mountainmangolfapple@gmail.com
END:VEVENT
BEGIN:VEVENT
DTSTART;TZID=America/New_York:20270908T110000
DTEND;TZID=America/New_York:20270908T170000
DTSTAMP:20260421T152605
CREATED:20250304T044027Z
LAST-MODIFIED:20251014T144713Z
UID:10001175-1820401200-1820422800@mountainmangolf.com
SUMMARY:Wendsday Match
DESCRIPTION:You Can Regester for the points match here.
URL:https://mountainmangolf.com/event/wensday-match/2027-09-08/
LOCATION:Apple Mountain Golf club\, 901 Rock Ford Rd\, Clarkesville\, GA\, 30523\, United States
CATEGORIES:Golf Points
ATTACH;FMTTYPE=image/jpeg:https://mountainmangolf.com/wp-content/uploads/2021/06/JPEG_black_and_white1317-1.jpg
ORGANIZER;CN="Jimmy Goodman":MAILTO:mountainmangolfapple@gmail.com
END:VEVENT
BEGIN:VEVENT
DTSTART;TZID=America/New_York:20270913T110000
DTEND;TZID=America/New_York:20270913T170000
DTSTAMP:20260421T152605
CREATED:20250802T002000Z
LAST-MODIFIED:20251120T231723Z
UID:10001476-1820833200-1820854800@mountainmangolf.com
SUMMARY:Monday Match
DESCRIPTION:You can regester for the points match here.
URL:https://mountainmangolf.com/event/monday-match-4/2027-09-13/
LOCATION:Apple Mountain Golf club\, 901 Rock Ford Rd\, Clarkesville\, GA\, 30523\, United States
CATEGORIES:Golf Points
ATTACH;FMTTYPE=image/jpeg:https://mountainmangolf.com/wp-content/uploads/2021/06/JPEG_black_and_white1317-1.jpg
ORGANIZER;CN="Jimmy Goodman":MAILTO:mountainmangolfapple@gmail.com
END:VEVENT
BEGIN:VEVENT
DTSTART;TZID=America/New_York:20270915T110000
DTEND;TZID=America/New_York:20270915T170000
DTSTAMP:20260421T152605
CREATED:20250304T044027Z
LAST-MODIFIED:20251014T144713Z
UID:10001176-1821006000-1821027600@mountainmangolf.com
SUMMARY:Wendsday Match
DESCRIPTION:You Can Regester for the points match here.
URL:https://mountainmangolf.com/event/wensday-match/2027-09-15/
LOCATION:Apple Mountain Golf club\, 901 Rock Ford Rd\, Clarkesville\, GA\, 30523\, United States
CATEGORIES:Golf Points
ATTACH;FMTTYPE=image/jpeg:https://mountainmangolf.com/wp-content/uploads/2021/06/JPEG_black_and_white1317-1.jpg
ORGANIZER;CN="Jimmy Goodman":MAILTO:mountainmangolfapple@gmail.com
END:VEVENT
BEGIN:VEVENT
DTSTART;TZID=America/New_York:20270920T110000
DTEND;TZID=America/New_York:20270920T170000
DTSTAMP:20260421T152605
CREATED:20250802T002000Z
LAST-MODIFIED:20251120T231723Z
UID:10001477-1821438000-1821459600@mountainmangolf.com
SUMMARY:Monday Match
DESCRIPTION:You can regester for the points match here.
URL:https://mountainmangolf.com/event/monday-match-4/2027-09-20/
LOCATION:Apple Mountain Golf club\, 901 Rock Ford Rd\, Clarkesville\, GA\, 30523\, United States
CATEGORIES:Golf Points
ATTACH;FMTTYPE=image/jpeg:https://mountainmangolf.com/wp-content/uploads/2021/06/JPEG_black_and_white1317-1.jpg
ORGANIZER;CN="Jimmy Goodman":MAILTO:mountainmangolfapple@gmail.com
END:VEVENT
BEGIN:VEVENT
DTSTART;TZID=America/New_York:20270922T110000
DTEND;TZID=America/New_York:20270922T170000
DTSTAMP:20260421T152605
CREATED:20250304T044027Z
LAST-MODIFIED:20251014T144713Z
UID:10001177-1821610800-1821632400@mountainmangolf.com
SUMMARY:Wendsday Match
DESCRIPTION:You Can Regester for the points match here.
URL:https://mountainmangolf.com/event/wensday-match/2027-09-22/
LOCATION:Apple Mountain Golf club\, 901 Rock Ford Rd\, Clarkesville\, GA\, 30523\, United States
CATEGORIES:Golf Points
ATTACH;FMTTYPE=image/jpeg:https://mountainmangolf.com/wp-content/uploads/2021/06/JPEG_black_and_white1317-1.jpg
ORGANIZER;CN="Jimmy Goodman":MAILTO:mountainmangolfapple@gmail.com
END:VEVENT
BEGIN:VEVENT
DTSTART;TZID=America/New_York:20270927T110000
DTEND;TZID=America/New_York:20270927T170000
DTSTAMP:20260421T152605
CREATED:20250802T002000Z
LAST-MODIFIED:20251120T231723Z
UID:10001478-1822042800-1822064400@mountainmangolf.com
SUMMARY:Monday Match
DESCRIPTION:You can regester for the points match here.
URL:https://mountainmangolf.com/event/monday-match-4/2027-09-27/
LOCATION:Apple Mountain Golf club\, 901 Rock Ford Rd\, Clarkesville\, GA\, 30523\, United States
CATEGORIES:Golf Points
ATTACH;FMTTYPE=image/jpeg:https://mountainmangolf.com/wp-content/uploads/2021/06/JPEG_black_and_white1317-1.jpg
ORGANIZER;CN="Jimmy Goodman":MAILTO:mountainmangolfapple@gmail.com
END:VEVENT
BEGIN:VEVENT
DTSTART;TZID=America/New_York:20270929T110000
DTEND;TZID=America/New_York:20270929T170000
DTSTAMP:20260421T152605
CREATED:20250304T044027Z
LAST-MODIFIED:20251014T144713Z
UID:10001178-1822215600-1822237200@mountainmangolf.com
SUMMARY:Wendsday Match
DESCRIPTION:You Can Regester for the points match here.
URL:https://mountainmangolf.com/event/wensday-match/2027-09-29/
LOCATION:Apple Mountain Golf club\, 901 Rock Ford Rd\, Clarkesville\, GA\, 30523\, United States
CATEGORIES:Golf Points
ATTACH;FMTTYPE=image/jpeg:https://mountainmangolf.com/wp-content/uploads/2021/06/JPEG_black_and_white1317-1.jpg
ORGANIZER;CN="Jimmy Goodman":MAILTO:mountainmangolfapple@gmail.com
END:VEVENT
BEGIN:VEVENT
DTSTART;TZID=America/New_York:20271004T110000
DTEND;TZID=America/New_York:20271004T170000
DTSTAMP:20260421T152605
CREATED:20250802T002000Z
LAST-MODIFIED:20251120T231723Z
UID:10001479-1822647600-1822669200@mountainmangolf.com
SUMMARY:Monday Match
DESCRIPTION:You can regester for the points match here.
URL:https://mountainmangolf.com/event/monday-match-4/2027-10-04/
LOCATION:Apple Mountain Golf club\, 901 Rock Ford Rd\, Clarkesville\, GA\, 30523\, United States
CATEGORIES:Golf Points
ATTACH;FMTTYPE=image/jpeg:https://mountainmangolf.com/wp-content/uploads/2021/06/JPEG_black_and_white1317-1.jpg
ORGANIZER;CN="Jimmy Goodman":MAILTO:mountainmangolfapple@gmail.com
END:VEVENT
BEGIN:VEVENT
DTSTART;TZID=America/New_York:20271006T110000
DTEND;TZID=America/New_York:20271006T170000
DTSTAMP:20260421T152605
CREATED:20250304T044027Z
LAST-MODIFIED:20251014T144713Z
UID:10001179-1822820400-1822842000@mountainmangolf.com
SUMMARY:Wendsday Match
DESCRIPTION:You Can Regester for the points match here.
URL:https://mountainmangolf.com/event/wensday-match/2027-10-06/
LOCATION:Apple Mountain Golf club\, 901 Rock Ford Rd\, Clarkesville\, GA\, 30523\, United States
CATEGORIES:Golf Points
ATTACH;FMTTYPE=image/jpeg:https://mountainmangolf.com/wp-content/uploads/2021/06/JPEG_black_and_white1317-1.jpg
ORGANIZER;CN="Jimmy Goodman":MAILTO:mountainmangolfapple@gmail.com
END:VEVENT
BEGIN:VEVENT
DTSTART;TZID=America/New_York:20271011T110000
DTEND;TZID=America/New_York:20271011T170000
DTSTAMP:20260421T152605
CREATED:20250802T002000Z
LAST-MODIFIED:20251120T231723Z
UID:10001480-1823252400-1823274000@mountainmangolf.com
SUMMARY:Monday Match
DESCRIPTION:You can regester for the points match here.
URL:https://mountainmangolf.com/event/monday-match-4/2027-10-11/
LOCATION:Apple Mountain Golf club\, 901 Rock Ford Rd\, Clarkesville\, GA\, 30523\, United States
CATEGORIES:Golf Points
ATTACH;FMTTYPE=image/jpeg:https://mountainmangolf.com/wp-content/uploads/2021/06/JPEG_black_and_white1317-1.jpg
ORGANIZER;CN="Jimmy Goodman":MAILTO:mountainmangolfapple@gmail.com
END:VEVENT
BEGIN:VEVENT
DTSTART;TZID=America/New_York:20271013T110000
DTEND;TZID=America/New_York:20271013T170000
DTSTAMP:20260421T152605
CREATED:20250304T044027Z
LAST-MODIFIED:20251014T144713Z
UID:10001180-1823425200-1823446800@mountainmangolf.com
SUMMARY:Wendsday Match
DESCRIPTION:You Can Regester for the points match here.
URL:https://mountainmangolf.com/event/wensday-match/2027-10-13/
LOCATION:Apple Mountain Golf club\, 901 Rock Ford Rd\, Clarkesville\, GA\, 30523\, United States
CATEGORIES:Golf Points
ATTACH;FMTTYPE=image/jpeg:https://mountainmangolf.com/wp-content/uploads/2021/06/JPEG_black_and_white1317-1.jpg
ORGANIZER;CN="Jimmy Goodman":MAILTO:mountainmangolfapple@gmail.com
END:VEVENT
BEGIN:VEVENT
DTSTART;TZID=America/New_York:20271018T110000
DTEND;TZID=America/New_York:20271018T170000
DTSTAMP:20260421T152605
CREATED:20250802T002000Z
LAST-MODIFIED:20251120T231723Z
UID:10001481-1823857200-1823878800@mountainmangolf.com
SUMMARY:Monday Match
DESCRIPTION:You can regester for the points match here.
URL:https://mountainmangolf.com/event/monday-match-4/2027-10-18/
LOCATION:Apple Mountain Golf club\, 901 Rock Ford Rd\, Clarkesville\, GA\, 30523\, United States
CATEGORIES:Golf Points
ATTACH;FMTTYPE=image/jpeg:https://mountainmangolf.com/wp-content/uploads/2021/06/JPEG_black_and_white1317-1.jpg
ORGANIZER;CN="Jimmy Goodman":MAILTO:mountainmangolfapple@gmail.com
END:VEVENT
BEGIN:VEVENT
DTSTART;TZID=America/New_York:20271020T110000
DTEND;TZID=America/New_York:20271020T170000
DTSTAMP:20260421T152605
CREATED:20250304T044027Z
LAST-MODIFIED:20251014T144713Z
UID:10001181-1824030000-1824051600@mountainmangolf.com
SUMMARY:Wendsday Match
DESCRIPTION:You Can Regester for the points match here.
URL:https://mountainmangolf.com/event/wensday-match/2027-10-20/
LOCATION:Apple Mountain Golf club\, 901 Rock Ford Rd\, Clarkesville\, GA\, 30523\, United States
CATEGORIES:Golf Points
ATTACH;FMTTYPE=image/jpeg:https://mountainmangolf.com/wp-content/uploads/2021/06/JPEG_black_and_white1317-1.jpg
ORGANIZER;CN="Jimmy Goodman":MAILTO:mountainmangolfapple@gmail.com
END:VEVENT
BEGIN:VEVENT
DTSTART;TZID=America/New_York:20271025T110000
DTEND;TZID=America/New_York:20271025T170000
DTSTAMP:20260421T152605
CREATED:20250802T002000Z
LAST-MODIFIED:20251120T231723Z
UID:10001482-1824462000-1824483600@mountainmangolf.com
SUMMARY:Monday Match
DESCRIPTION:You can regester for the points match here.
URL:https://mountainmangolf.com/event/monday-match-4/2027-10-25/
LOCATION:Apple Mountain Golf club\, 901 Rock Ford Rd\, Clarkesville\, GA\, 30523\, United States
CATEGORIES:Golf Points
ATTACH;FMTTYPE=image/jpeg:https://mountainmangolf.com/wp-content/uploads/2021/06/JPEG_black_and_white1317-1.jpg
ORGANIZER;CN="Jimmy Goodman":MAILTO:mountainmangolfapple@gmail.com
END:VEVENT
BEGIN:VEVENT
DTSTART;TZID=America/New_York:20271027T110000
DTEND;TZID=America/New_York:20271027T170000
DTSTAMP:20260421T152605
CREATED:20250304T044027Z
LAST-MODIFIED:20251014T144713Z
UID:10001182-1824634800-1824656400@mountainmangolf.com
SUMMARY:Wendsday Match
DESCRIPTION:You Can Regester for the points match here.
URL:https://mountainmangolf.com/event/wensday-match/2027-10-27/
LOCATION:Apple Mountain Golf club\, 901 Rock Ford Rd\, Clarkesville\, GA\, 30523\, United States
CATEGORIES:Golf Points
ATTACH;FMTTYPE=image/jpeg:https://mountainmangolf.com/wp-content/uploads/2021/06/JPEG_black_and_white1317-1.jpg
ORGANIZER;CN="Jimmy Goodman":MAILTO:mountainmangolfapple@gmail.com
END:VEVENT
BEGIN:VEVENT
DTSTART;TZID=America/New_York:20271101T110000
DTEND;TZID=America/New_York:20271101T170000
DTSTAMP:20260421T152605
CREATED:20250802T002000Z
LAST-MODIFIED:20251120T231723Z
UID:10001483-1825066800-1825088400@mountainmangolf.com
SUMMARY:Monday Match
DESCRIPTION:You can regester for the points match here.
URL:https://mountainmangolf.com/event/monday-match-4/2027-11-01/
LOCATION:Apple Mountain Golf club\, 901 Rock Ford Rd\, Clarkesville\, GA\, 30523\, United States
CATEGORIES:Golf Points
ATTACH;FMTTYPE=image/jpeg:https://mountainmangolf.com/wp-content/uploads/2021/06/JPEG_black_and_white1317-1.jpg
ORGANIZER;CN="Jimmy Goodman":MAILTO:mountainmangolfapple@gmail.com
END:VEVENT
BEGIN:VEVENT
DTSTART;TZID=America/New_York:20271103T110000
DTEND;TZID=America/New_York:20271103T170000
DTSTAMP:20260421T152605
CREATED:20250304T044027Z
LAST-MODIFIED:20251014T144713Z
UID:10001183-1825239600-1825261200@mountainmangolf.com
SUMMARY:Wendsday Match
DESCRIPTION:You Can Regester for the points match here.
URL:https://mountainmangolf.com/event/wensday-match/2027-11-03/
LOCATION:Apple Mountain Golf club\, 901 Rock Ford Rd\, Clarkesville\, GA\, 30523\, United States
CATEGORIES:Golf Points
ATTACH;FMTTYPE=image/jpeg:https://mountainmangolf.com/wp-content/uploads/2021/06/JPEG_black_and_white1317-1.jpg
ORGANIZER;CN="Jimmy Goodman":MAILTO:mountainmangolfapple@gmail.com
END:VEVENT
BEGIN:VEVENT
DTSTART;TZID=America/New_York:20271108T110000
DTEND;TZID=America/New_York:20271108T170000
DTSTAMP:20260421T152605
CREATED:20250802T002000Z
LAST-MODIFIED:20251120T231723Z
UID:10001484-1825671600-1825693200@mountainmangolf.com
SUMMARY:Monday Match
DESCRIPTION:You can regester for the points match here.
URL:https://mountainmangolf.com/event/monday-match-4/2027-11-08/
LOCATION:Apple Mountain Golf club\, 901 Rock Ford Rd\, Clarkesville\, GA\, 30523\, United States
CATEGORIES:Golf Points
ATTACH;FMTTYPE=image/jpeg:https://mountainmangolf.com/wp-content/uploads/2021/06/JPEG_black_and_white1317-1.jpg
ORGANIZER;CN="Jimmy Goodman":MAILTO:mountainmangolfapple@gmail.com
END:VEVENT
BEGIN:VEVENT
DTSTART;TZID=America/New_York:20271110T110000
DTEND;TZID=America/New_York:20271110T170000
DTSTAMP:20260421T152605
CREATED:20250304T044027Z
LAST-MODIFIED:20251014T144713Z
UID:10001184-1825844400-1825866000@mountainmangolf.com
SUMMARY:Wendsday Match
DESCRIPTION:You Can Regester for the points match here.
URL:https://mountainmangolf.com/event/wensday-match/2027-11-10/
LOCATION:Apple Mountain Golf club\, 901 Rock Ford Rd\, Clarkesville\, GA\, 30523\, United States
CATEGORIES:Golf Points
ATTACH;FMTTYPE=image/jpeg:https://mountainmangolf.com/wp-content/uploads/2021/06/JPEG_black_and_white1317-1.jpg
ORGANIZER;CN="Jimmy Goodman":MAILTO:mountainmangolfapple@gmail.com
END:VEVENT
BEGIN:VEVENT
DTSTART;TZID=America/New_York:20271115T110000
DTEND;TZID=America/New_York:20271115T170000
DTSTAMP:20260421T152605
CREATED:20250802T002000Z
LAST-MODIFIED:20251120T231723Z
UID:10001485-1826276400-1826298000@mountainmangolf.com
SUMMARY:Monday Match
DESCRIPTION:You can regester for the points match here.
URL:https://mountainmangolf.com/event/monday-match-4/2027-11-15/
LOCATION:Apple Mountain Golf club\, 901 Rock Ford Rd\, Clarkesville\, GA\, 30523\, United States
CATEGORIES:Golf Points
ATTACH;FMTTYPE=image/jpeg:https://mountainmangolf.com/wp-content/uploads/2021/06/JPEG_black_and_white1317-1.jpg
ORGANIZER;CN="Jimmy Goodman":MAILTO:mountainmangolfapple@gmail.com
END:VEVENT
BEGIN:VEVENT
DTSTART;TZID=America/New_York:20271117T110000
DTEND;TZID=America/New_York:20271117T170000
DTSTAMP:20260421T152605
CREATED:20250304T044027Z
LAST-MODIFIED:20251014T144713Z
UID:10001185-1826449200-1826470800@mountainmangolf.com
SUMMARY:Wendsday Match
DESCRIPTION:You Can Regester for the points match here.
URL:https://mountainmangolf.com/event/wensday-match/2027-11-17/
LOCATION:Apple Mountain Golf club\, 901 Rock Ford Rd\, Clarkesville\, GA\, 30523\, United States
CATEGORIES:Golf Points
ATTACH;FMTTYPE=image/jpeg:https://mountainmangolf.com/wp-content/uploads/2021/06/JPEG_black_and_white1317-1.jpg
ORGANIZER;CN="Jimmy Goodman":MAILTO:mountainmangolfapple@gmail.com
END:VEVENT
BEGIN:VEVENT
DTSTART;TZID=America/New_York:20271122T110000
DTEND;TZID=America/New_York:20271122T170000
DTSTAMP:20260421T152605
CREATED:20250802T002000Z
LAST-MODIFIED:20251120T231723Z
UID:10001486-1826881200-1826902800@mountainmangolf.com
SUMMARY:Monday Match
DESCRIPTION:You can regester for the points match here.
URL:https://mountainmangolf.com/event/monday-match-4/2027-11-22/
LOCATION:Apple Mountain Golf club\, 901 Rock Ford Rd\, Clarkesville\, GA\, 30523\, United States
CATEGORIES:Golf Points
ATTACH;FMTTYPE=image/jpeg:https://mountainmangolf.com/wp-content/uploads/2021/06/JPEG_black_and_white1317-1.jpg
ORGANIZER;CN="Jimmy Goodman":MAILTO:mountainmangolfapple@gmail.com
END:VEVENT
BEGIN:VEVENT
DTSTART;TZID=America/New_York:20271124T110000
DTEND;TZID=America/New_York:20271124T170000
DTSTAMP:20260421T152605
CREATED:20250304T044027Z
LAST-MODIFIED:20251014T144713Z
UID:10001186-1827054000-1827075600@mountainmangolf.com
SUMMARY:Wendsday Match
DESCRIPTION:You Can Regester for the points match here.
URL:https://mountainmangolf.com/event/wensday-match/2027-11-24/
LOCATION:Apple Mountain Golf club\, 901 Rock Ford Rd\, Clarkesville\, GA\, 30523\, United States
CATEGORIES:Golf Points
ATTACH;FMTTYPE=image/jpeg:https://mountainmangolf.com/wp-content/uploads/2021/06/JPEG_black_and_white1317-1.jpg
ORGANIZER;CN="Jimmy Goodman":MAILTO:mountainmangolfapple@gmail.com
END:VEVENT
BEGIN:VEVENT
DTSTART;TZID=America/New_York:20271129T110000
DTEND;TZID=America/New_York:20271129T170000
DTSTAMP:20260421T152605
CREATED:20250802T002000Z
LAST-MODIFIED:20251120T231723Z
UID:10001487-1827486000-1827507600@mountainmangolf.com
SUMMARY:Monday Match
DESCRIPTION:You can regester for the points match here.
URL:https://mountainmangolf.com/event/monday-match-4/2027-11-29/
LOCATION:Apple Mountain Golf club\, 901 Rock Ford Rd\, Clarkesville\, GA\, 30523\, United States
CATEGORIES:Golf Points
ATTACH;FMTTYPE=image/jpeg:https://mountainmangolf.com/wp-content/uploads/2021/06/JPEG_black_and_white1317-1.jpg
ORGANIZER;CN="Jimmy Goodman":MAILTO:mountainmangolfapple@gmail.com
END:VEVENT
END:VCALENDAR