BEGIN:VCALENDAR
VERSION:2.0
PRODID:-//Mountain Man Golf - ECPv6.15.20//NONSGML v1.0//EN
CALSCALE:GREGORIAN
METHOD:PUBLISH
X-WR-CALNAME:Mountain Man Golf
X-ORIGINAL-URL:https://mountainmangolf.com
X-WR-CALDESC:Events for Mountain Man Golf
REFRESH-INTERVAL;VALUE=DURATION:PT1H
X-Robots-Tag:noindex
X-PUBLISHED-TTL:PT1H
BEGIN:VTIMEZONE
TZID:America/New_York
BEGIN:DAYLIGHT
TZOFFSETFROM:-0500
TZOFFSETTO:-0400
TZNAME:EDT
DTSTART:20270314T070000
END:DAYLIGHT
BEGIN:STANDARD
TZOFFSETFROM:-0400
TZOFFSETTO:-0500
TZNAME:EST
DTSTART:20271107T060000
END:STANDARD
BEGIN:DAYLIGHT
TZOFFSETFROM:-0500
TZOFFSETTO:-0400
TZNAME:EDT
DTSTART:20280312T070000
END:DAYLIGHT
BEGIN:STANDARD
TZOFFSETFROM:-0400
TZOFFSETTO:-0500
TZNAME:EST
DTSTART:20281105T060000
END:STANDARD
BEGIN:DAYLIGHT
TZOFFSETFROM:-0500
TZOFFSETTO:-0400
TZNAME:EDT
DTSTART:20290311T070000
END:DAYLIGHT
BEGIN:STANDARD
TZOFFSETFROM:-0400
TZOFFSETTO:-0500
TZNAME:EST
DTSTART:20291104T060000
END:STANDARD
END:VTIMEZONE
BEGIN:VEVENT
DTSTART;TZID=America/New_York:20280202T110000
DTEND;TZID=America/New_York:20280202T170000
DTSTAMP:20260422T051806
CREATED:20250304T044027Z
LAST-MODIFIED:20251014T144713Z
UID:10001196-1833102000-1833123600@mountainmangolf.com
SUMMARY:Wendsday Match
DESCRIPTION:You Can Regester for the points match here.
URL:https://mountainmangolf.com/event/wensday-match/2028-02-02/
LOCATION:Apple Mountain Golf club\, 901 Rock Ford Rd\, Clarkesville\, GA\, 30523\, United States
CATEGORIES:Golf Points
ATTACH;FMTTYPE=image/jpeg:https://mountainmangolf.com/wp-content/uploads/2021/06/JPEG_black_and_white1317-1.jpg
ORGANIZER;CN="Jimmy Goodman":MAILTO:mountainmangolfapple@gmail.com
END:VEVENT
BEGIN:VEVENT
DTSTART;TZID=America/New_York:20280207T110000
DTEND;TZID=America/New_York:20280207T170000
DTSTAMP:20260422T051806
CREATED:20250802T002000Z
LAST-MODIFIED:20251120T231723Z
UID:10001497-1833534000-1833555600@mountainmangolf.com
SUMMARY:Monday Match
DESCRIPTION:You can regester for the points match here.
URL:https://mountainmangolf.com/event/monday-match-4/2028-02-07/
LOCATION:Apple Mountain Golf club\, 901 Rock Ford Rd\, Clarkesville\, GA\, 30523\, United States
CATEGORIES:Golf Points
ATTACH;FMTTYPE=image/jpeg:https://mountainmangolf.com/wp-content/uploads/2021/06/JPEG_black_and_white1317-1.jpg
ORGANIZER;CN="Jimmy Goodman":MAILTO:mountainmangolfapple@gmail.com
END:VEVENT
BEGIN:VEVENT
DTSTART;TZID=America/New_York:20280209T110000
DTEND;TZID=America/New_York:20280209T170000
DTSTAMP:20260422T051806
CREATED:20250304T044027Z
LAST-MODIFIED:20251014T144713Z
UID:10001197-1833706800-1833728400@mountainmangolf.com
SUMMARY:Wendsday Match
DESCRIPTION:You Can Regester for the points match here.
URL:https://mountainmangolf.com/event/wensday-match/2028-02-09/
LOCATION:Apple Mountain Golf club\, 901 Rock Ford Rd\, Clarkesville\, GA\, 30523\, United States
CATEGORIES:Golf Points
ATTACH;FMTTYPE=image/jpeg:https://mountainmangolf.com/wp-content/uploads/2021/06/JPEG_black_and_white1317-1.jpg
ORGANIZER;CN="Jimmy Goodman":MAILTO:mountainmangolfapple@gmail.com
END:VEVENT
BEGIN:VEVENT
DTSTART;TZID=America/New_York:20280214T110000
DTEND;TZID=America/New_York:20280214T170000
DTSTAMP:20260422T051806
CREATED:20250802T002000Z
LAST-MODIFIED:20251120T231723Z
UID:10001498-1834138800-1834160400@mountainmangolf.com
SUMMARY:Monday Match
DESCRIPTION:You can regester for the points match here.
URL:https://mountainmangolf.com/event/monday-match-4/2028-02-14/
LOCATION:Apple Mountain Golf club\, 901 Rock Ford Rd\, Clarkesville\, GA\, 30523\, United States
CATEGORIES:Golf Points
ATTACH;FMTTYPE=image/jpeg:https://mountainmangolf.com/wp-content/uploads/2021/06/JPEG_black_and_white1317-1.jpg
ORGANIZER;CN="Jimmy Goodman":MAILTO:mountainmangolfapple@gmail.com
END:VEVENT
BEGIN:VEVENT
DTSTART;TZID=America/New_York:20280216T110000
DTEND;TZID=America/New_York:20280216T170000
DTSTAMP:20260422T051806
CREATED:20250304T044027Z
LAST-MODIFIED:20251014T144713Z
UID:10001198-1834311600-1834333200@mountainmangolf.com
SUMMARY:Wendsday Match
DESCRIPTION:You Can Regester for the points match here.
URL:https://mountainmangolf.com/event/wensday-match/2028-02-16/
LOCATION:Apple Mountain Golf club\, 901 Rock Ford Rd\, Clarkesville\, GA\, 30523\, United States
CATEGORIES:Golf Points
ATTACH;FMTTYPE=image/jpeg:https://mountainmangolf.com/wp-content/uploads/2021/06/JPEG_black_and_white1317-1.jpg
ORGANIZER;CN="Jimmy Goodman":MAILTO:mountainmangolfapple@gmail.com
END:VEVENT
BEGIN:VEVENT
DTSTART;TZID=America/New_York:20280221T110000
DTEND;TZID=America/New_York:20280221T170000
DTSTAMP:20260422T051806
CREATED:20250802T002000Z
LAST-MODIFIED:20251120T231723Z
UID:10001499-1834743600-1834765200@mountainmangolf.com
SUMMARY:Monday Match
DESCRIPTION:You can regester for the points match here.
URL:https://mountainmangolf.com/event/monday-match-4/2028-02-21/
LOCATION:Apple Mountain Golf club\, 901 Rock Ford Rd\, Clarkesville\, GA\, 30523\, United States
CATEGORIES:Golf Points
ATTACH;FMTTYPE=image/jpeg:https://mountainmangolf.com/wp-content/uploads/2021/06/JPEG_black_and_white1317-1.jpg
ORGANIZER;CN="Jimmy Goodman":MAILTO:mountainmangolfapple@gmail.com
END:VEVENT
BEGIN:VEVENT
DTSTART;TZID=America/New_York:20280223T110000
DTEND;TZID=America/New_York:20280223T170000
DTSTAMP:20260422T051806
CREATED:20250304T044027Z
LAST-MODIFIED:20251014T144713Z
UID:10001199-1834916400-1834938000@mountainmangolf.com
SUMMARY:Wendsday Match
DESCRIPTION:You Can Regester for the points match here.
URL:https://mountainmangolf.com/event/wensday-match/2028-02-23/
LOCATION:Apple Mountain Golf club\, 901 Rock Ford Rd\, Clarkesville\, GA\, 30523\, United States
CATEGORIES:Golf Points
ATTACH;FMTTYPE=image/jpeg:https://mountainmangolf.com/wp-content/uploads/2021/06/JPEG_black_and_white1317-1.jpg
ORGANIZER;CN="Jimmy Goodman":MAILTO:mountainmangolfapple@gmail.com
END:VEVENT
BEGIN:VEVENT
DTSTART;TZID=America/New_York:20280228T110000
DTEND;TZID=America/New_York:20280228T170000
DTSTAMP:20260422T051806
CREATED:20250802T002000Z
LAST-MODIFIED:20251120T231723Z
UID:10001500-1835348400-1835370000@mountainmangolf.com
SUMMARY:Monday Match
DESCRIPTION:You can regester for the points match here.
URL:https://mountainmangolf.com/event/monday-match-4/2028-02-28/
LOCATION:Apple Mountain Golf club\, 901 Rock Ford Rd\, Clarkesville\, GA\, 30523\, United States
CATEGORIES:Golf Points
ATTACH;FMTTYPE=image/jpeg:https://mountainmangolf.com/wp-content/uploads/2021/06/JPEG_black_and_white1317-1.jpg
ORGANIZER;CN="Jimmy Goodman":MAILTO:mountainmangolfapple@gmail.com
END:VEVENT
BEGIN:VEVENT
DTSTART;TZID=America/New_York:20280301T110000
DTEND;TZID=America/New_York:20280301T170000
DTSTAMP:20260422T051806
CREATED:20250304T044027Z
LAST-MODIFIED:20251014T144713Z
UID:10001200-1835521200-1835542800@mountainmangolf.com
SUMMARY:Wendsday Match
DESCRIPTION:You Can Regester for the points match here.
URL:https://mountainmangolf.com/event/wensday-match/2028-03-01/
LOCATION:Apple Mountain Golf club\, 901 Rock Ford Rd\, Clarkesville\, GA\, 30523\, United States
CATEGORIES:Golf Points
ATTACH;FMTTYPE=image/jpeg:https://mountainmangolf.com/wp-content/uploads/2021/06/JPEG_black_and_white1317-1.jpg
ORGANIZER;CN="Jimmy Goodman":MAILTO:mountainmangolfapple@gmail.com
END:VEVENT
BEGIN:VEVENT
DTSTART;TZID=America/New_York:20280306T110000
DTEND;TZID=America/New_York:20280306T170000
DTSTAMP:20260422T051806
CREATED:20250802T002000Z
LAST-MODIFIED:20251120T231723Z
UID:10001501-1835953200-1835974800@mountainmangolf.com
SUMMARY:Monday Match
DESCRIPTION:You can regester for the points match here.
URL:https://mountainmangolf.com/event/monday-match-4/2028-03-06/
LOCATION:Apple Mountain Golf club\, 901 Rock Ford Rd\, Clarkesville\, GA\, 30523\, United States
CATEGORIES:Golf Points
ATTACH;FMTTYPE=image/jpeg:https://mountainmangolf.com/wp-content/uploads/2021/06/JPEG_black_and_white1317-1.jpg
ORGANIZER;CN="Jimmy Goodman":MAILTO:mountainmangolfapple@gmail.com
END:VEVENT
BEGIN:VEVENT
DTSTART;TZID=America/New_York:20280308T110000
DTEND;TZID=America/New_York:20280308T170000
DTSTAMP:20260422T051806
CREATED:20250304T044027Z
LAST-MODIFIED:20251014T144713Z
UID:10001201-1836126000-1836147600@mountainmangolf.com
SUMMARY:Wendsday Match
DESCRIPTION:You Can Regester for the points match here.
URL:https://mountainmangolf.com/event/wensday-match/2028-03-08/
LOCATION:Apple Mountain Golf club\, 901 Rock Ford Rd\, Clarkesville\, GA\, 30523\, United States
CATEGORIES:Golf Points
ATTACH;FMTTYPE=image/jpeg:https://mountainmangolf.com/wp-content/uploads/2021/06/JPEG_black_and_white1317-1.jpg
ORGANIZER;CN="Jimmy Goodman":MAILTO:mountainmangolfapple@gmail.com
END:VEVENT
BEGIN:VEVENT
DTSTART;TZID=America/New_York:20280313T110000
DTEND;TZID=America/New_York:20280313T170000
DTSTAMP:20260422T051806
CREATED:20250802T002000Z
LAST-MODIFIED:20251120T231723Z
UID:10001502-1836558000-1836579600@mountainmangolf.com
SUMMARY:Monday Match
DESCRIPTION:You can regester for the points match here.
URL:https://mountainmangolf.com/event/monday-match-4/2028-03-13/
LOCATION:Apple Mountain Golf club\, 901 Rock Ford Rd\, Clarkesville\, GA\, 30523\, United States
CATEGORIES:Golf Points
ATTACH;FMTTYPE=image/jpeg:https://mountainmangolf.com/wp-content/uploads/2021/06/JPEG_black_and_white1317-1.jpg
ORGANIZER;CN="Jimmy Goodman":MAILTO:mountainmangolfapple@gmail.com
END:VEVENT
BEGIN:VEVENT
DTSTART;TZID=America/New_York:20280315T110000
DTEND;TZID=America/New_York:20280315T170000
DTSTAMP:20260422T051806
CREATED:20250304T044027Z
LAST-MODIFIED:20251014T144713Z
UID:10001202-1836730800-1836752400@mountainmangolf.com
SUMMARY:Wendsday Match
DESCRIPTION:You Can Regester for the points match here.
URL:https://mountainmangolf.com/event/wensday-match/2028-03-15/
LOCATION:Apple Mountain Golf club\, 901 Rock Ford Rd\, Clarkesville\, GA\, 30523\, United States
CATEGORIES:Golf Points
ATTACH;FMTTYPE=image/jpeg:https://mountainmangolf.com/wp-content/uploads/2021/06/JPEG_black_and_white1317-1.jpg
ORGANIZER;CN="Jimmy Goodman":MAILTO:mountainmangolfapple@gmail.com
END:VEVENT
BEGIN:VEVENT
DTSTART;TZID=America/New_York:20280320T110000
DTEND;TZID=America/New_York:20280320T170000
DTSTAMP:20260422T051806
CREATED:20250802T002000Z
LAST-MODIFIED:20251120T231723Z
UID:10001503-1837162800-1837184400@mountainmangolf.com
SUMMARY:Monday Match
DESCRIPTION:You can regester for the points match here.
URL:https://mountainmangolf.com/event/monday-match-4/2028-03-20/
LOCATION:Apple Mountain Golf club\, 901 Rock Ford Rd\, Clarkesville\, GA\, 30523\, United States
CATEGORIES:Golf Points
ATTACH;FMTTYPE=image/jpeg:https://mountainmangolf.com/wp-content/uploads/2021/06/JPEG_black_and_white1317-1.jpg
ORGANIZER;CN="Jimmy Goodman":MAILTO:mountainmangolfapple@gmail.com
END:VEVENT
BEGIN:VEVENT
DTSTART;TZID=America/New_York:20280322T110000
DTEND;TZID=America/New_York:20280322T170000
DTSTAMP:20260422T051806
CREATED:20250304T044027Z
LAST-MODIFIED:20251014T144713Z
UID:10001203-1837335600-1837357200@mountainmangolf.com
SUMMARY:Wendsday Match
DESCRIPTION:You Can Regester for the points match here.
URL:https://mountainmangolf.com/event/wensday-match/2028-03-22/
LOCATION:Apple Mountain Golf club\, 901 Rock Ford Rd\, Clarkesville\, GA\, 30523\, United States
CATEGORIES:Golf Points
ATTACH;FMTTYPE=image/jpeg:https://mountainmangolf.com/wp-content/uploads/2021/06/JPEG_black_and_white1317-1.jpg
ORGANIZER;CN="Jimmy Goodman":MAILTO:mountainmangolfapple@gmail.com
END:VEVENT
BEGIN:VEVENT
DTSTART;TZID=America/New_York:20280327T110000
DTEND;TZID=America/New_York:20280327T170000
DTSTAMP:20260422T051806
CREATED:20250802T002000Z
LAST-MODIFIED:20251120T231723Z
UID:10001504-1837767600-1837789200@mountainmangolf.com
SUMMARY:Monday Match
DESCRIPTION:You can regester for the points match here.
URL:https://mountainmangolf.com/event/monday-match-4/2028-03-27/
LOCATION:Apple Mountain Golf club\, 901 Rock Ford Rd\, Clarkesville\, GA\, 30523\, United States
CATEGORIES:Golf Points
ATTACH;FMTTYPE=image/jpeg:https://mountainmangolf.com/wp-content/uploads/2021/06/JPEG_black_and_white1317-1.jpg
ORGANIZER;CN="Jimmy Goodman":MAILTO:mountainmangolfapple@gmail.com
END:VEVENT
BEGIN:VEVENT
DTSTART;TZID=America/New_York:20280329T110000
DTEND;TZID=America/New_York:20280329T170000
DTSTAMP:20260422T051806
CREATED:20250304T044027Z
LAST-MODIFIED:20251014T144713Z
UID:10001204-1837940400-1837962000@mountainmangolf.com
SUMMARY:Wendsday Match
DESCRIPTION:You Can Regester for the points match here.
URL:https://mountainmangolf.com/event/wensday-match/2028-03-29/
LOCATION:Apple Mountain Golf club\, 901 Rock Ford Rd\, Clarkesville\, GA\, 30523\, United States
CATEGORIES:Golf Points
ATTACH;FMTTYPE=image/jpeg:https://mountainmangolf.com/wp-content/uploads/2021/06/JPEG_black_and_white1317-1.jpg
ORGANIZER;CN="Jimmy Goodman":MAILTO:mountainmangolfapple@gmail.com
END:VEVENT
BEGIN:VEVENT
DTSTART;TZID=America/New_York:20280403T110000
DTEND;TZID=America/New_York:20280403T170000
DTSTAMP:20260422T051806
CREATED:20250802T002000Z
LAST-MODIFIED:20251120T231723Z
UID:10001505-1838372400-1838394000@mountainmangolf.com
SUMMARY:Monday Match
DESCRIPTION:You can regester for the points match here.
URL:https://mountainmangolf.com/event/monday-match-4/2028-04-03/
LOCATION:Apple Mountain Golf club\, 901 Rock Ford Rd\, Clarkesville\, GA\, 30523\, United States
CATEGORIES:Golf Points
ATTACH;FMTTYPE=image/jpeg:https://mountainmangolf.com/wp-content/uploads/2021/06/JPEG_black_and_white1317-1.jpg
ORGANIZER;CN="Jimmy Goodman":MAILTO:mountainmangolfapple@gmail.com
END:VEVENT
BEGIN:VEVENT
DTSTART;TZID=America/New_York:20280405T110000
DTEND;TZID=America/New_York:20280405T170000
DTSTAMP:20260422T051806
CREATED:20250304T044027Z
LAST-MODIFIED:20251014T144713Z
UID:10001205-1838545200-1838566800@mountainmangolf.com
SUMMARY:Wendsday Match
DESCRIPTION:You Can Regester for the points match here.
URL:https://mountainmangolf.com/event/wensday-match/2028-04-05/
LOCATION:Apple Mountain Golf club\, 901 Rock Ford Rd\, Clarkesville\, GA\, 30523\, United States
CATEGORIES:Golf Points
ATTACH;FMTTYPE=image/jpeg:https://mountainmangolf.com/wp-content/uploads/2021/06/JPEG_black_and_white1317-1.jpg
ORGANIZER;CN="Jimmy Goodman":MAILTO:mountainmangolfapple@gmail.com
END:VEVENT
BEGIN:VEVENT
DTSTART;TZID=America/New_York:20280410T110000
DTEND;TZID=America/New_York:20280410T170000
DTSTAMP:20260422T051806
CREATED:20250802T002000Z
LAST-MODIFIED:20251120T231723Z
UID:10001506-1838977200-1838998800@mountainmangolf.com
SUMMARY:Monday Match
DESCRIPTION:You can regester for the points match here.
URL:https://mountainmangolf.com/event/monday-match-4/2028-04-10/
LOCATION:Apple Mountain Golf club\, 901 Rock Ford Rd\, Clarkesville\, GA\, 30523\, United States
CATEGORIES:Golf Points
ATTACH;FMTTYPE=image/jpeg:https://mountainmangolf.com/wp-content/uploads/2021/06/JPEG_black_and_white1317-1.jpg
ORGANIZER;CN="Jimmy Goodman":MAILTO:mountainmangolfapple@gmail.com
END:VEVENT
BEGIN:VEVENT
DTSTART;TZID=America/New_York:20280412T110000
DTEND;TZID=America/New_York:20280412T170000
DTSTAMP:20260422T051806
CREATED:20250304T044027Z
LAST-MODIFIED:20251014T144713Z
UID:10001206-1839150000-1839171600@mountainmangolf.com
SUMMARY:Wendsday Match
DESCRIPTION:You Can Regester for the points match here.
URL:https://mountainmangolf.com/event/wensday-match/2028-04-12/
LOCATION:Apple Mountain Golf club\, 901 Rock Ford Rd\, Clarkesville\, GA\, 30523\, United States
CATEGORIES:Golf Points
ATTACH;FMTTYPE=image/jpeg:https://mountainmangolf.com/wp-content/uploads/2021/06/JPEG_black_and_white1317-1.jpg
ORGANIZER;CN="Jimmy Goodman":MAILTO:mountainmangolfapple@gmail.com
END:VEVENT
BEGIN:VEVENT
DTSTART;TZID=America/New_York:20280417T110000
DTEND;TZID=America/New_York:20280417T170000
DTSTAMP:20260422T051806
CREATED:20250802T002000Z
LAST-MODIFIED:20251120T231723Z
UID:10001507-1839582000-1839603600@mountainmangolf.com
SUMMARY:Monday Match
DESCRIPTION:You can regester for the points match here.
URL:https://mountainmangolf.com/event/monday-match-4/2028-04-17/
LOCATION:Apple Mountain Golf club\, 901 Rock Ford Rd\, Clarkesville\, GA\, 30523\, United States
CATEGORIES:Golf Points
ATTACH;FMTTYPE=image/jpeg:https://mountainmangolf.com/wp-content/uploads/2021/06/JPEG_black_and_white1317-1.jpg
ORGANIZER;CN="Jimmy Goodman":MAILTO:mountainmangolfapple@gmail.com
END:VEVENT
BEGIN:VEVENT
DTSTART;TZID=America/New_York:20280419T110000
DTEND;TZID=America/New_York:20280419T170000
DTSTAMP:20260422T051806
CREATED:20250304T044027Z
LAST-MODIFIED:20251014T144713Z
UID:10001207-1839754800-1839776400@mountainmangolf.com
SUMMARY:Wendsday Match
DESCRIPTION:You Can Regester for the points match here.
URL:https://mountainmangolf.com/event/wensday-match/2028-04-19/
LOCATION:Apple Mountain Golf club\, 901 Rock Ford Rd\, Clarkesville\, GA\, 30523\, United States
CATEGORIES:Golf Points
ATTACH;FMTTYPE=image/jpeg:https://mountainmangolf.com/wp-content/uploads/2021/06/JPEG_black_and_white1317-1.jpg
ORGANIZER;CN="Jimmy Goodman":MAILTO:mountainmangolfapple@gmail.com
END:VEVENT
BEGIN:VEVENT
DTSTART;TZID=America/New_York:20280424T110000
DTEND;TZID=America/New_York:20280424T170000
DTSTAMP:20260422T051806
CREATED:20250802T002000Z
LAST-MODIFIED:20251120T231723Z
UID:10001508-1840186800-1840208400@mountainmangolf.com
SUMMARY:Monday Match
DESCRIPTION:You can regester for the points match here.
URL:https://mountainmangolf.com/event/monday-match-4/2028-04-24/
LOCATION:Apple Mountain Golf club\, 901 Rock Ford Rd\, Clarkesville\, GA\, 30523\, United States
CATEGORIES:Golf Points
ATTACH;FMTTYPE=image/jpeg:https://mountainmangolf.com/wp-content/uploads/2021/06/JPEG_black_and_white1317-1.jpg
ORGANIZER;CN="Jimmy Goodman":MAILTO:mountainmangolfapple@gmail.com
END:VEVENT
BEGIN:VEVENT
DTSTART;TZID=America/New_York:20280426T110000
DTEND;TZID=America/New_York:20280426T170000
DTSTAMP:20260422T051807
CREATED:20250304T044027Z
LAST-MODIFIED:20251014T144713Z
UID:10001208-1840359600-1840381200@mountainmangolf.com
SUMMARY:Wendsday Match
DESCRIPTION:You Can Regester for the points match here.
URL:https://mountainmangolf.com/event/wensday-match/2028-04-26/
LOCATION:Apple Mountain Golf club\, 901 Rock Ford Rd\, Clarkesville\, GA\, 30523\, United States
CATEGORIES:Golf Points
ATTACH;FMTTYPE=image/jpeg:https://mountainmangolf.com/wp-content/uploads/2021/06/JPEG_black_and_white1317-1.jpg
ORGANIZER;CN="Jimmy Goodman":MAILTO:mountainmangolfapple@gmail.com
END:VEVENT
BEGIN:VEVENT
DTSTART;TZID=America/New_York:20280501T110000
DTEND;TZID=America/New_York:20280501T170000
DTSTAMP:20260422T051807
CREATED:20250802T002000Z
LAST-MODIFIED:20251120T231723Z
UID:10001509-1840791600-1840813200@mountainmangolf.com
SUMMARY:Monday Match
DESCRIPTION:You can regester for the points match here.
URL:https://mountainmangolf.com/event/monday-match-4/2028-05-01/
LOCATION:Apple Mountain Golf club\, 901 Rock Ford Rd\, Clarkesville\, GA\, 30523\, United States
CATEGORIES:Golf Points
ATTACH;FMTTYPE=image/jpeg:https://mountainmangolf.com/wp-content/uploads/2021/06/JPEG_black_and_white1317-1.jpg
ORGANIZER;CN="Jimmy Goodman":MAILTO:mountainmangolfapple@gmail.com
END:VEVENT
BEGIN:VEVENT
DTSTART;TZID=America/New_York:20280503T110000
DTEND;TZID=America/New_York:20280503T170000
DTSTAMP:20260422T051807
CREATED:20250304T044027Z
LAST-MODIFIED:20251014T144713Z
UID:10001209-1840964400-1840986000@mountainmangolf.com
SUMMARY:Wendsday Match
DESCRIPTION:You Can Regester for the points match here.
URL:https://mountainmangolf.com/event/wensday-match/2028-05-03/
LOCATION:Apple Mountain Golf club\, 901 Rock Ford Rd\, Clarkesville\, GA\, 30523\, United States
CATEGORIES:Golf Points
ATTACH;FMTTYPE=image/jpeg:https://mountainmangolf.com/wp-content/uploads/2021/06/JPEG_black_and_white1317-1.jpg
ORGANIZER;CN="Jimmy Goodman":MAILTO:mountainmangolfapple@gmail.com
END:VEVENT
BEGIN:VEVENT
DTSTART;TZID=America/New_York:20280508T110000
DTEND;TZID=America/New_York:20280508T170000
DTSTAMP:20260422T051807
CREATED:20250802T002000Z
LAST-MODIFIED:20251120T231723Z
UID:10001510-1841396400-1841418000@mountainmangolf.com
SUMMARY:Monday Match
DESCRIPTION:You can regester for the points match here.
URL:https://mountainmangolf.com/event/monday-match-4/2028-05-08/
LOCATION:Apple Mountain Golf club\, 901 Rock Ford Rd\, Clarkesville\, GA\, 30523\, United States
CATEGORIES:Golf Points
ATTACH;FMTTYPE=image/jpeg:https://mountainmangolf.com/wp-content/uploads/2021/06/JPEG_black_and_white1317-1.jpg
ORGANIZER;CN="Jimmy Goodman":MAILTO:mountainmangolfapple@gmail.com
END:VEVENT
BEGIN:VEVENT
DTSTART;TZID=America/New_York:20280510T110000
DTEND;TZID=America/New_York:20280510T170000
DTSTAMP:20260422T051807
CREATED:20250304T044027Z
LAST-MODIFIED:20251014T144713Z
UID:10001210-1841569200-1841590800@mountainmangolf.com
SUMMARY:Wendsday Match
DESCRIPTION:You Can Regester for the points match here.
URL:https://mountainmangolf.com/event/wensday-match/2028-05-10/
LOCATION:Apple Mountain Golf club\, 901 Rock Ford Rd\, Clarkesville\, GA\, 30523\, United States
CATEGORIES:Golf Points
ATTACH;FMTTYPE=image/jpeg:https://mountainmangolf.com/wp-content/uploads/2021/06/JPEG_black_and_white1317-1.jpg
ORGANIZER;CN="Jimmy Goodman":MAILTO:mountainmangolfapple@gmail.com
END:VEVENT
BEGIN:VEVENT
DTSTART;TZID=America/New_York:20280515T110000
DTEND;TZID=America/New_York:20280515T170000
DTSTAMP:20260422T051807
CREATED:20250802T002000Z
LAST-MODIFIED:20251120T231723Z
UID:10001511-1842001200-1842022800@mountainmangolf.com
SUMMARY:Monday Match
DESCRIPTION:You can regester for the points match here.
URL:https://mountainmangolf.com/event/monday-match-4/2028-05-15/
LOCATION:Apple Mountain Golf club\, 901 Rock Ford Rd\, Clarkesville\, GA\, 30523\, United States
CATEGORIES:Golf Points
ATTACH;FMTTYPE=image/jpeg:https://mountainmangolf.com/wp-content/uploads/2021/06/JPEG_black_and_white1317-1.jpg
ORGANIZER;CN="Jimmy Goodman":MAILTO:mountainmangolfapple@gmail.com
END:VEVENT
END:VCALENDAR