BEGIN:VCALENDAR
VERSION:2.0
PRODID:-//Mountain Man Golf - ECPv6.15.20//NONSGML v1.0//EN
CALSCALE:GREGORIAN
METHOD:PUBLISH
X-WR-CALNAME:Mountain Man Golf
X-ORIGINAL-URL:https://mountainmangolf.com
X-WR-CALDESC:Events for Mountain Man Golf
REFRESH-INTERVAL;VALUE=DURATION:PT1H
X-Robots-Tag:noindex
X-PUBLISHED-TTL:PT1H
BEGIN:VTIMEZONE
TZID:America/New_York
BEGIN:DAYLIGHT
TZOFFSETFROM:-0500
TZOFFSETTO:-0400
TZNAME:EDT
DTSTART:20280312T070000
END:DAYLIGHT
BEGIN:STANDARD
TZOFFSETFROM:-0400
TZOFFSETTO:-0500
TZNAME:EST
DTSTART:20281105T060000
END:STANDARD
BEGIN:DAYLIGHT
TZOFFSETFROM:-0500
TZOFFSETTO:-0400
TZNAME:EDT
DTSTART:20290311T070000
END:DAYLIGHT
BEGIN:STANDARD
TZOFFSETFROM:-0400
TZOFFSETTO:-0500
TZNAME:EST
DTSTART:20291104T060000
END:STANDARD
BEGIN:DAYLIGHT
TZOFFSETFROM:-0500
TZOFFSETTO:-0400
TZNAME:EDT
DTSTART:20300310T070000
END:DAYLIGHT
BEGIN:STANDARD
TZOFFSETFROM:-0400
TZOFFSETTO:-0500
TZNAME:EST
DTSTART:20301103T060000
END:STANDARD
END:VTIMEZONE
BEGIN:VEVENT
DTSTART;TZID=America/New_York:20290827T110000
DTEND;TZID=America/New_York:20290827T170000
DTSTAMP:20260424T023050
CREATED:20250802T002000Z
LAST-MODIFIED:20251120T231723Z
UID:10001578-1882522800-1882544400@mountainmangolf.com
SUMMARY:Monday Match
DESCRIPTION:You can regester for the points match here.
URL:https://mountainmangolf.com/event/monday-match-4/2029-08-27/
LOCATION:Apple Mountain Golf club\, 901 Rock Ford Rd\, Clarkesville\, GA\, 30523\, United States
CATEGORIES:Golf Points
ATTACH;FMTTYPE=image/jpeg:https://mountainmangolf.com/wp-content/uploads/2021/06/JPEG_black_and_white1317-1.jpg
ORGANIZER;CN="Jimmy Goodman":MAILTO:mountainmangolfapple@gmail.com
END:VEVENT
BEGIN:VEVENT
DTSTART;TZID=America/New_York:20290829T110000
DTEND;TZID=America/New_York:20290829T170000
DTSTAMP:20260424T023050
CREATED:20250304T044027Z
LAST-MODIFIED:20251014T144713Z
UID:10001278-1882695600-1882717200@mountainmangolf.com
SUMMARY:Wendsday Match
DESCRIPTION:You Can Regester for the points match here.
URL:https://mountainmangolf.com/event/wensday-match/2029-08-29/
LOCATION:Apple Mountain Golf club\, 901 Rock Ford Rd\, Clarkesville\, GA\, 30523\, United States
CATEGORIES:Golf Points
ATTACH;FMTTYPE=image/jpeg:https://mountainmangolf.com/wp-content/uploads/2021/06/JPEG_black_and_white1317-1.jpg
ORGANIZER;CN="Jimmy Goodman":MAILTO:mountainmangolfapple@gmail.com
END:VEVENT
BEGIN:VEVENT
DTSTART;TZID=America/New_York:20290903T110000
DTEND;TZID=America/New_York:20290903T170000
DTSTAMP:20260424T023051
CREATED:20250802T002000Z
LAST-MODIFIED:20251120T231723Z
UID:10001579-1883127600-1883149200@mountainmangolf.com
SUMMARY:Monday Match
DESCRIPTION:You can regester for the points match here.
URL:https://mountainmangolf.com/event/monday-match-4/2029-09-03/
LOCATION:Apple Mountain Golf club\, 901 Rock Ford Rd\, Clarkesville\, GA\, 30523\, United States
CATEGORIES:Golf Points
ATTACH;FMTTYPE=image/jpeg:https://mountainmangolf.com/wp-content/uploads/2021/06/JPEG_black_and_white1317-1.jpg
ORGANIZER;CN="Jimmy Goodman":MAILTO:mountainmangolfapple@gmail.com
END:VEVENT
BEGIN:VEVENT
DTSTART;TZID=America/New_York:20290905T110000
DTEND;TZID=America/New_York:20290905T170000
DTSTAMP:20260424T023051
CREATED:20250304T044027Z
LAST-MODIFIED:20251014T144713Z
UID:10001279-1883300400-1883322000@mountainmangolf.com
SUMMARY:Wendsday Match
DESCRIPTION:You Can Regester for the points match here.
URL:https://mountainmangolf.com/event/wensday-match/2029-09-05/
LOCATION:Apple Mountain Golf club\, 901 Rock Ford Rd\, Clarkesville\, GA\, 30523\, United States
CATEGORIES:Golf Points
ATTACH;FMTTYPE=image/jpeg:https://mountainmangolf.com/wp-content/uploads/2021/06/JPEG_black_and_white1317-1.jpg
ORGANIZER;CN="Jimmy Goodman":MAILTO:mountainmangolfapple@gmail.com
END:VEVENT
BEGIN:VEVENT
DTSTART;TZID=America/New_York:20290910T110000
DTEND;TZID=America/New_York:20290910T170000
DTSTAMP:20260424T023051
CREATED:20250802T002000Z
LAST-MODIFIED:20251120T231723Z
UID:10001580-1883732400-1883754000@mountainmangolf.com
SUMMARY:Monday Match
DESCRIPTION:You can regester for the points match here.
URL:https://mountainmangolf.com/event/monday-match-4/2029-09-10/
LOCATION:Apple Mountain Golf club\, 901 Rock Ford Rd\, Clarkesville\, GA\, 30523\, United States
CATEGORIES:Golf Points
ATTACH;FMTTYPE=image/jpeg:https://mountainmangolf.com/wp-content/uploads/2021/06/JPEG_black_and_white1317-1.jpg
ORGANIZER;CN="Jimmy Goodman":MAILTO:mountainmangolfapple@gmail.com
END:VEVENT
BEGIN:VEVENT
DTSTART;TZID=America/New_York:20290912T110000
DTEND;TZID=America/New_York:20290912T170000
DTSTAMP:20260424T023051
CREATED:20250304T044027Z
LAST-MODIFIED:20251014T144713Z
UID:10001280-1883905200-1883926800@mountainmangolf.com
SUMMARY:Wendsday Match
DESCRIPTION:You Can Regester for the points match here.
URL:https://mountainmangolf.com/event/wensday-match/2029-09-12/
LOCATION:Apple Mountain Golf club\, 901 Rock Ford Rd\, Clarkesville\, GA\, 30523\, United States
CATEGORIES:Golf Points
ATTACH;FMTTYPE=image/jpeg:https://mountainmangolf.com/wp-content/uploads/2021/06/JPEG_black_and_white1317-1.jpg
ORGANIZER;CN="Jimmy Goodman":MAILTO:mountainmangolfapple@gmail.com
END:VEVENT
BEGIN:VEVENT
DTSTART;TZID=America/New_York:20290917T110000
DTEND;TZID=America/New_York:20290917T170000
DTSTAMP:20260424T023051
CREATED:20250802T002000Z
LAST-MODIFIED:20251120T231723Z
UID:10001581-1884337200-1884358800@mountainmangolf.com
SUMMARY:Monday Match
DESCRIPTION:You can regester for the points match here.
URL:https://mountainmangolf.com/event/monday-match-4/2029-09-17/
LOCATION:Apple Mountain Golf club\, 901 Rock Ford Rd\, Clarkesville\, GA\, 30523\, United States
CATEGORIES:Golf Points
ATTACH;FMTTYPE=image/jpeg:https://mountainmangolf.com/wp-content/uploads/2021/06/JPEG_black_and_white1317-1.jpg
ORGANIZER;CN="Jimmy Goodman":MAILTO:mountainmangolfapple@gmail.com
END:VEVENT
BEGIN:VEVENT
DTSTART;TZID=America/New_York:20290919T110000
DTEND;TZID=America/New_York:20290919T170000
DTSTAMP:20260424T023051
CREATED:20250304T044027Z
LAST-MODIFIED:20251014T144713Z
UID:10001281-1884510000-1884531600@mountainmangolf.com
SUMMARY:Wendsday Match
DESCRIPTION:You Can Regester for the points match here.
URL:https://mountainmangolf.com/event/wensday-match/2029-09-19/
LOCATION:Apple Mountain Golf club\, 901 Rock Ford Rd\, Clarkesville\, GA\, 30523\, United States
CATEGORIES:Golf Points
ATTACH;FMTTYPE=image/jpeg:https://mountainmangolf.com/wp-content/uploads/2021/06/JPEG_black_and_white1317-1.jpg
ORGANIZER;CN="Jimmy Goodman":MAILTO:mountainmangolfapple@gmail.com
END:VEVENT
BEGIN:VEVENT
DTSTART;TZID=America/New_York:20290924T110000
DTEND;TZID=America/New_York:20290924T170000
DTSTAMP:20260424T023051
CREATED:20250802T002000Z
LAST-MODIFIED:20251120T231723Z
UID:10001582-1884942000-1884963600@mountainmangolf.com
SUMMARY:Monday Match
DESCRIPTION:You can regester for the points match here.
URL:https://mountainmangolf.com/event/monday-match-4/2029-09-24/
LOCATION:Apple Mountain Golf club\, 901 Rock Ford Rd\, Clarkesville\, GA\, 30523\, United States
CATEGORIES:Golf Points
ATTACH;FMTTYPE=image/jpeg:https://mountainmangolf.com/wp-content/uploads/2021/06/JPEG_black_and_white1317-1.jpg
ORGANIZER;CN="Jimmy Goodman":MAILTO:mountainmangolfapple@gmail.com
END:VEVENT
BEGIN:VEVENT
DTSTART;TZID=America/New_York:20290926T110000
DTEND;TZID=America/New_York:20290926T170000
DTSTAMP:20260424T023051
CREATED:20250304T044027Z
LAST-MODIFIED:20251014T144713Z
UID:10001282-1885114800-1885136400@mountainmangolf.com
SUMMARY:Wendsday Match
DESCRIPTION:You Can Regester for the points match here.
URL:https://mountainmangolf.com/event/wensday-match/2029-09-26/
LOCATION:Apple Mountain Golf club\, 901 Rock Ford Rd\, Clarkesville\, GA\, 30523\, United States
CATEGORIES:Golf Points
ATTACH;FMTTYPE=image/jpeg:https://mountainmangolf.com/wp-content/uploads/2021/06/JPEG_black_and_white1317-1.jpg
ORGANIZER;CN="Jimmy Goodman":MAILTO:mountainmangolfapple@gmail.com
END:VEVENT
BEGIN:VEVENT
DTSTART;TZID=America/New_York:20291001T110000
DTEND;TZID=America/New_York:20291001T170000
DTSTAMP:20260424T023051
CREATED:20250802T002000Z
LAST-MODIFIED:20251120T231723Z
UID:10001583-1885546800-1885568400@mountainmangolf.com
SUMMARY:Monday Match
DESCRIPTION:You can regester for the points match here.
URL:https://mountainmangolf.com/event/monday-match-4/2029-10-01/
LOCATION:Apple Mountain Golf club\, 901 Rock Ford Rd\, Clarkesville\, GA\, 30523\, United States
CATEGORIES:Golf Points
ATTACH;FMTTYPE=image/jpeg:https://mountainmangolf.com/wp-content/uploads/2021/06/JPEG_black_and_white1317-1.jpg
ORGANIZER;CN="Jimmy Goodman":MAILTO:mountainmangolfapple@gmail.com
END:VEVENT
BEGIN:VEVENT
DTSTART;TZID=America/New_York:20291003T110000
DTEND;TZID=America/New_York:20291003T170000
DTSTAMP:20260424T023051
CREATED:20250304T044027Z
LAST-MODIFIED:20251014T144713Z
UID:10001283-1885719600-1885741200@mountainmangolf.com
SUMMARY:Wendsday Match
DESCRIPTION:You Can Regester for the points match here.
URL:https://mountainmangolf.com/event/wensday-match/2029-10-03/
LOCATION:Apple Mountain Golf club\, 901 Rock Ford Rd\, Clarkesville\, GA\, 30523\, United States
CATEGORIES:Golf Points
ATTACH;FMTTYPE=image/jpeg:https://mountainmangolf.com/wp-content/uploads/2021/06/JPEG_black_and_white1317-1.jpg
ORGANIZER;CN="Jimmy Goodman":MAILTO:mountainmangolfapple@gmail.com
END:VEVENT
BEGIN:VEVENT
DTSTART;TZID=America/New_York:20291008T110000
DTEND;TZID=America/New_York:20291008T170000
DTSTAMP:20260424T023051
CREATED:20250802T002000Z
LAST-MODIFIED:20251120T231723Z
UID:10001584-1886151600-1886173200@mountainmangolf.com
SUMMARY:Monday Match
DESCRIPTION:You can regester for the points match here.
URL:https://mountainmangolf.com/event/monday-match-4/2029-10-08/
LOCATION:Apple Mountain Golf club\, 901 Rock Ford Rd\, Clarkesville\, GA\, 30523\, United States
CATEGORIES:Golf Points
ATTACH;FMTTYPE=image/jpeg:https://mountainmangolf.com/wp-content/uploads/2021/06/JPEG_black_and_white1317-1.jpg
ORGANIZER;CN="Jimmy Goodman":MAILTO:mountainmangolfapple@gmail.com
END:VEVENT
BEGIN:VEVENT
DTSTART;TZID=America/New_York:20291010T110000
DTEND;TZID=America/New_York:20291010T170000
DTSTAMP:20260424T023051
CREATED:20250304T044027Z
LAST-MODIFIED:20251014T144713Z
UID:10001284-1886324400-1886346000@mountainmangolf.com
SUMMARY:Wendsday Match
DESCRIPTION:You Can Regester for the points match here.
URL:https://mountainmangolf.com/event/wensday-match/2029-10-10/
LOCATION:Apple Mountain Golf club\, 901 Rock Ford Rd\, Clarkesville\, GA\, 30523\, United States
CATEGORIES:Golf Points
ATTACH;FMTTYPE=image/jpeg:https://mountainmangolf.com/wp-content/uploads/2021/06/JPEG_black_and_white1317-1.jpg
ORGANIZER;CN="Jimmy Goodman":MAILTO:mountainmangolfapple@gmail.com
END:VEVENT
BEGIN:VEVENT
DTSTART;TZID=America/New_York:20291015T110000
DTEND;TZID=America/New_York:20291015T170000
DTSTAMP:20260424T023051
CREATED:20250802T002000Z
LAST-MODIFIED:20251120T231723Z
UID:10001585-1886756400-1886778000@mountainmangolf.com
SUMMARY:Monday Match
DESCRIPTION:You can regester for the points match here.
URL:https://mountainmangolf.com/event/monday-match-4/2029-10-15/
LOCATION:Apple Mountain Golf club\, 901 Rock Ford Rd\, Clarkesville\, GA\, 30523\, United States
CATEGORIES:Golf Points
ATTACH;FMTTYPE=image/jpeg:https://mountainmangolf.com/wp-content/uploads/2021/06/JPEG_black_and_white1317-1.jpg
ORGANIZER;CN="Jimmy Goodman":MAILTO:mountainmangolfapple@gmail.com
END:VEVENT
BEGIN:VEVENT
DTSTART;TZID=America/New_York:20291017T110000
DTEND;TZID=America/New_York:20291017T170000
DTSTAMP:20260424T023051
CREATED:20250304T044027Z
LAST-MODIFIED:20251014T144713Z
UID:10001285-1886929200-1886950800@mountainmangolf.com
SUMMARY:Wendsday Match
DESCRIPTION:You Can Regester for the points match here.
URL:https://mountainmangolf.com/event/wensday-match/2029-10-17/
LOCATION:Apple Mountain Golf club\, 901 Rock Ford Rd\, Clarkesville\, GA\, 30523\, United States
CATEGORIES:Golf Points
ATTACH;FMTTYPE=image/jpeg:https://mountainmangolf.com/wp-content/uploads/2021/06/JPEG_black_and_white1317-1.jpg
ORGANIZER;CN="Jimmy Goodman":MAILTO:mountainmangolfapple@gmail.com
END:VEVENT
BEGIN:VEVENT
DTSTART;TZID=America/New_York:20291022T110000
DTEND;TZID=America/New_York:20291022T170000
DTSTAMP:20260424T023051
CREATED:20250802T002000Z
LAST-MODIFIED:20251120T231723Z
UID:10001586-1887361200-1887382800@mountainmangolf.com
SUMMARY:Monday Match
DESCRIPTION:You can regester for the points match here.
URL:https://mountainmangolf.com/event/monday-match-4/2029-10-22/
LOCATION:Apple Mountain Golf club\, 901 Rock Ford Rd\, Clarkesville\, GA\, 30523\, United States
CATEGORIES:Golf Points
ATTACH;FMTTYPE=image/jpeg:https://mountainmangolf.com/wp-content/uploads/2021/06/JPEG_black_and_white1317-1.jpg
ORGANIZER;CN="Jimmy Goodman":MAILTO:mountainmangolfapple@gmail.com
END:VEVENT
BEGIN:VEVENT
DTSTART;TZID=America/New_York:20291024T110000
DTEND;TZID=America/New_York:20291024T170000
DTSTAMP:20260424T023051
CREATED:20250304T044027Z
LAST-MODIFIED:20251014T144713Z
UID:10001286-1887534000-1887555600@mountainmangolf.com
SUMMARY:Wendsday Match
DESCRIPTION:You Can Regester for the points match here.
URL:https://mountainmangolf.com/event/wensday-match/2029-10-24/
LOCATION:Apple Mountain Golf club\, 901 Rock Ford Rd\, Clarkesville\, GA\, 30523\, United States
CATEGORIES:Golf Points
ATTACH;FMTTYPE=image/jpeg:https://mountainmangolf.com/wp-content/uploads/2021/06/JPEG_black_and_white1317-1.jpg
ORGANIZER;CN="Jimmy Goodman":MAILTO:mountainmangolfapple@gmail.com
END:VEVENT
BEGIN:VEVENT
DTSTART;TZID=America/New_York:20291029T110000
DTEND;TZID=America/New_York:20291029T170000
DTSTAMP:20260424T023051
CREATED:20250802T002000Z
LAST-MODIFIED:20251120T231723Z
UID:10001587-1887966000-1887987600@mountainmangolf.com
SUMMARY:Monday Match
DESCRIPTION:You can regester for the points match here.
URL:https://mountainmangolf.com/event/monday-match-4/2029-10-29/
LOCATION:Apple Mountain Golf club\, 901 Rock Ford Rd\, Clarkesville\, GA\, 30523\, United States
CATEGORIES:Golf Points
ATTACH;FMTTYPE=image/jpeg:https://mountainmangolf.com/wp-content/uploads/2021/06/JPEG_black_and_white1317-1.jpg
ORGANIZER;CN="Jimmy Goodman":MAILTO:mountainmangolfapple@gmail.com
END:VEVENT
BEGIN:VEVENT
DTSTART;TZID=America/New_York:20291031T110000
DTEND;TZID=America/New_York:20291031T170000
DTSTAMP:20260424T023051
CREATED:20250304T044027Z
LAST-MODIFIED:20251014T144713Z
UID:10001287-1888138800-1888160400@mountainmangolf.com
SUMMARY:Wendsday Match
DESCRIPTION:You Can Regester for the points match here.
URL:https://mountainmangolf.com/event/wensday-match/2029-10-31/
LOCATION:Apple Mountain Golf club\, 901 Rock Ford Rd\, Clarkesville\, GA\, 30523\, United States
CATEGORIES:Golf Points
ATTACH;FMTTYPE=image/jpeg:https://mountainmangolf.com/wp-content/uploads/2021/06/JPEG_black_and_white1317-1.jpg
ORGANIZER;CN="Jimmy Goodman":MAILTO:mountainmangolfapple@gmail.com
END:VEVENT
BEGIN:VEVENT
DTSTART;TZID=America/New_York:20291105T110000
DTEND;TZID=America/New_York:20291105T170000
DTSTAMP:20260424T023051
CREATED:20250802T002000Z
LAST-MODIFIED:20251120T231723Z
UID:10001588-1888570800-1888592400@mountainmangolf.com
SUMMARY:Monday Match
DESCRIPTION:You can regester for the points match here.
URL:https://mountainmangolf.com/event/monday-match-4/2029-11-05/
LOCATION:Apple Mountain Golf club\, 901 Rock Ford Rd\, Clarkesville\, GA\, 30523\, United States
CATEGORIES:Golf Points
ATTACH;FMTTYPE=image/jpeg:https://mountainmangolf.com/wp-content/uploads/2021/06/JPEG_black_and_white1317-1.jpg
ORGANIZER;CN="Jimmy Goodman":MAILTO:mountainmangolfapple@gmail.com
END:VEVENT
BEGIN:VEVENT
DTSTART;TZID=America/New_York:20291107T110000
DTEND;TZID=America/New_York:20291107T170000
DTSTAMP:20260424T023051
CREATED:20250304T044027Z
LAST-MODIFIED:20251014T144713Z
UID:10001288-1888743600-1888765200@mountainmangolf.com
SUMMARY:Wendsday Match
DESCRIPTION:You Can Regester for the points match here.
URL:https://mountainmangolf.com/event/wensday-match/2029-11-07/
LOCATION:Apple Mountain Golf club\, 901 Rock Ford Rd\, Clarkesville\, GA\, 30523\, United States
CATEGORIES:Golf Points
ATTACH;FMTTYPE=image/jpeg:https://mountainmangolf.com/wp-content/uploads/2021/06/JPEG_black_and_white1317-1.jpg
ORGANIZER;CN="Jimmy Goodman":MAILTO:mountainmangolfapple@gmail.com
END:VEVENT
BEGIN:VEVENT
DTSTART;TZID=America/New_York:20291112T110000
DTEND;TZID=America/New_York:20291112T170000
DTSTAMP:20260424T023051
CREATED:20250802T002000Z
LAST-MODIFIED:20251120T231723Z
UID:10001589-1889175600-1889197200@mountainmangolf.com
SUMMARY:Monday Match
DESCRIPTION:You can regester for the points match here.
URL:https://mountainmangolf.com/event/monday-match-4/2029-11-12/
LOCATION:Apple Mountain Golf club\, 901 Rock Ford Rd\, Clarkesville\, GA\, 30523\, United States
CATEGORIES:Golf Points
ATTACH;FMTTYPE=image/jpeg:https://mountainmangolf.com/wp-content/uploads/2021/06/JPEG_black_and_white1317-1.jpg
ORGANIZER;CN="Jimmy Goodman":MAILTO:mountainmangolfapple@gmail.com
END:VEVENT
BEGIN:VEVENT
DTSTART;TZID=America/New_York:20291114T110000
DTEND;TZID=America/New_York:20291114T170000
DTSTAMP:20260424T023051
CREATED:20250304T044027Z
LAST-MODIFIED:20251014T144713Z
UID:10001289-1889348400-1889370000@mountainmangolf.com
SUMMARY:Wendsday Match
DESCRIPTION:You Can Regester for the points match here.
URL:https://mountainmangolf.com/event/wensday-match/2029-11-14/
LOCATION:Apple Mountain Golf club\, 901 Rock Ford Rd\, Clarkesville\, GA\, 30523\, United States
CATEGORIES:Golf Points
ATTACH;FMTTYPE=image/jpeg:https://mountainmangolf.com/wp-content/uploads/2021/06/JPEG_black_and_white1317-1.jpg
ORGANIZER;CN="Jimmy Goodman":MAILTO:mountainmangolfapple@gmail.com
END:VEVENT
BEGIN:VEVENT
DTSTART;TZID=America/New_York:20291119T110000
DTEND;TZID=America/New_York:20291119T170000
DTSTAMP:20260424T023051
CREATED:20250802T002000Z
LAST-MODIFIED:20251120T231723Z
UID:10001590-1889780400-1889802000@mountainmangolf.com
SUMMARY:Monday Match
DESCRIPTION:You can regester for the points match here.
URL:https://mountainmangolf.com/event/monday-match-4/2029-11-19/
LOCATION:Apple Mountain Golf club\, 901 Rock Ford Rd\, Clarkesville\, GA\, 30523\, United States
CATEGORIES:Golf Points
ATTACH;FMTTYPE=image/jpeg:https://mountainmangolf.com/wp-content/uploads/2021/06/JPEG_black_and_white1317-1.jpg
ORGANIZER;CN="Jimmy Goodman":MAILTO:mountainmangolfapple@gmail.com
END:VEVENT
BEGIN:VEVENT
DTSTART;TZID=America/New_York:20291121T110000
DTEND;TZID=America/New_York:20291121T170000
DTSTAMP:20260424T023051
CREATED:20250304T044027Z
LAST-MODIFIED:20251014T144713Z
UID:10001290-1889953200-1889974800@mountainmangolf.com
SUMMARY:Wendsday Match
DESCRIPTION:You Can Regester for the points match here.
URL:https://mountainmangolf.com/event/wensday-match/2029-11-21/
LOCATION:Apple Mountain Golf club\, 901 Rock Ford Rd\, Clarkesville\, GA\, 30523\, United States
CATEGORIES:Golf Points
ATTACH;FMTTYPE=image/jpeg:https://mountainmangolf.com/wp-content/uploads/2021/06/JPEG_black_and_white1317-1.jpg
ORGANIZER;CN="Jimmy Goodman":MAILTO:mountainmangolfapple@gmail.com
END:VEVENT
BEGIN:VEVENT
DTSTART;TZID=America/New_York:20291126T110000
DTEND;TZID=America/New_York:20291126T170000
DTSTAMP:20260424T023051
CREATED:20250802T002000Z
LAST-MODIFIED:20251120T231723Z
UID:10001591-1890385200-1890406800@mountainmangolf.com
SUMMARY:Monday Match
DESCRIPTION:You can regester for the points match here.
URL:https://mountainmangolf.com/event/monday-match-4/2029-11-26/
LOCATION:Apple Mountain Golf club\, 901 Rock Ford Rd\, Clarkesville\, GA\, 30523\, United States
CATEGORIES:Golf Points
ATTACH;FMTTYPE=image/jpeg:https://mountainmangolf.com/wp-content/uploads/2021/06/JPEG_black_and_white1317-1.jpg
ORGANIZER;CN="Jimmy Goodman":MAILTO:mountainmangolfapple@gmail.com
END:VEVENT
BEGIN:VEVENT
DTSTART;TZID=America/New_York:20291128T110000
DTEND;TZID=America/New_York:20291128T170000
DTSTAMP:20260424T023051
CREATED:20250304T044027Z
LAST-MODIFIED:20251014T144713Z
UID:10001291-1890558000-1890579600@mountainmangolf.com
SUMMARY:Wendsday Match
DESCRIPTION:You Can Regester for the points match here.
URL:https://mountainmangolf.com/event/wensday-match/2029-11-28/
LOCATION:Apple Mountain Golf club\, 901 Rock Ford Rd\, Clarkesville\, GA\, 30523\, United States
CATEGORIES:Golf Points
ATTACH;FMTTYPE=image/jpeg:https://mountainmangolf.com/wp-content/uploads/2021/06/JPEG_black_and_white1317-1.jpg
ORGANIZER;CN="Jimmy Goodman":MAILTO:mountainmangolfapple@gmail.com
END:VEVENT
BEGIN:VEVENT
DTSTART;TZID=America/New_York:20291203T110000
DTEND;TZID=America/New_York:20291203T170000
DTSTAMP:20260424T023051
CREATED:20250802T002000Z
LAST-MODIFIED:20251120T231723Z
UID:10001592-1890990000-1891011600@mountainmangolf.com
SUMMARY:Monday Match
DESCRIPTION:You can regester for the points match here.
URL:https://mountainmangolf.com/event/monday-match-4/2029-12-03/
LOCATION:Apple Mountain Golf club\, 901 Rock Ford Rd\, Clarkesville\, GA\, 30523\, United States
CATEGORIES:Golf Points
ATTACH;FMTTYPE=image/jpeg:https://mountainmangolf.com/wp-content/uploads/2021/06/JPEG_black_and_white1317-1.jpg
ORGANIZER;CN="Jimmy Goodman":MAILTO:mountainmangolfapple@gmail.com
END:VEVENT
BEGIN:VEVENT
DTSTART;TZID=America/New_York:20291205T110000
DTEND;TZID=America/New_York:20291205T170000
DTSTAMP:20260424T023051
CREATED:20250304T044027Z
LAST-MODIFIED:20251014T144713Z
UID:10001292-1891162800-1891184400@mountainmangolf.com
SUMMARY:Wendsday Match
DESCRIPTION:You Can Regester for the points match here.
URL:https://mountainmangolf.com/event/wensday-match/2029-12-05/
LOCATION:Apple Mountain Golf club\, 901 Rock Ford Rd\, Clarkesville\, GA\, 30523\, United States
CATEGORIES:Golf Points
ATTACH;FMTTYPE=image/jpeg:https://mountainmangolf.com/wp-content/uploads/2021/06/JPEG_black_and_white1317-1.jpg
ORGANIZER;CN="Jimmy Goodman":MAILTO:mountainmangolfapple@gmail.com
END:VEVENT
END:VCALENDAR