BEGIN:VCALENDAR
VERSION:2.0
PRODID:-//Mountain Man Golf - ECPv6.15.20//NONSGML v1.0//EN
CALSCALE:GREGORIAN
METHOD:PUBLISH
X-ORIGINAL-URL:https://mountainmangolf.com
X-WR-CALDESC:Events for Mountain Man Golf
REFRESH-INTERVAL;VALUE=DURATION:PT1H
X-Robots-Tag:noindex
X-PUBLISHED-TTL:PT1H
BEGIN:VTIMEZONE
TZID:America/New_York
BEGIN:DAYLIGHT
TZOFFSETFROM:-0500
TZOFFSETTO:-0400
TZNAME:EDT
DTSTART:20280312T070000
END:DAYLIGHT
BEGIN:STANDARD
TZOFFSETFROM:-0400
TZOFFSETTO:-0500
TZNAME:EST
DTSTART:20281105T060000
END:STANDARD
BEGIN:DAYLIGHT
TZOFFSETFROM:-0500
TZOFFSETTO:-0400
TZNAME:EDT
DTSTART:20290311T070000
END:DAYLIGHT
BEGIN:STANDARD
TZOFFSETFROM:-0400
TZOFFSETTO:-0500
TZNAME:EST
DTSTART:20291104T060000
END:STANDARD
BEGIN:DAYLIGHT
TZOFFSETFROM:-0500
TZOFFSETTO:-0400
TZNAME:EDT
DTSTART:20300310T070000
END:DAYLIGHT
BEGIN:STANDARD
TZOFFSETFROM:-0400
TZOFFSETTO:-0500
TZNAME:EST
DTSTART:20301103T060000
END:STANDARD
BEGIN:DAYLIGHT
TZOFFSETFROM:-0500
TZOFFSETTO:-0400
TZNAME:EDT
DTSTART:20310309T070000
END:DAYLIGHT
BEGIN:STANDARD
TZOFFSETFROM:-0400
TZOFFSETTO:-0500
TZNAME:EST
DTSTART:20311102T060000
END:STANDARD
END:VTIMEZONE
BEGIN:VEVENT
DTSTART;TZID=America/New_York:20291210T110000
DTEND;TZID=America/New_York:20291210T170000
DTSTAMP:20260424T101858
CREATED:20250802T002000Z
LAST-MODIFIED:20251120T231723Z
UID:10001593-1891594800-1891616400@mountainmangolf.com
SUMMARY:Monday Match
DESCRIPTION:You can regester for the points match here.
URL:https://mountainmangolf.com/event/monday-match-4/2029-12-10/
LOCATION:Apple Mountain Golf club\, 901 Rock Ford Rd\, Clarkesville\, GA\, 30523\, United States
CATEGORIES:Golf Points
ATTACH;FMTTYPE=image/jpeg:https://mountainmangolf.com/wp-content/uploads/2021/06/JPEG_black_and_white1317-1.jpg
ORGANIZER;CN="Jimmy Goodman":MAILTO:mountainmangolfapple@gmail.com
END:VEVENT
BEGIN:VEVENT
DTSTART;TZID=America/New_York:20291212T110000
DTEND;TZID=America/New_York:20291212T170000
DTSTAMP:20260424T101858
CREATED:20250304T044027Z
LAST-MODIFIED:20251014T144713Z
UID:10001293-1891767600-1891789200@mountainmangolf.com
SUMMARY:Wendsday Match
DESCRIPTION:You Can Regester for the points match here.
URL:https://mountainmangolf.com/event/wensday-match/2029-12-12/
LOCATION:Apple Mountain Golf club\, 901 Rock Ford Rd\, Clarkesville\, GA\, 30523\, United States
CATEGORIES:Golf Points
ATTACH;FMTTYPE=image/jpeg:https://mountainmangolf.com/wp-content/uploads/2021/06/JPEG_black_and_white1317-1.jpg
ORGANIZER;CN="Jimmy Goodman":MAILTO:mountainmangolfapple@gmail.com
END:VEVENT
BEGIN:VEVENT
DTSTART;TZID=America/New_York:20291217T110000
DTEND;TZID=America/New_York:20291217T170000
DTSTAMP:20260424T101858
CREATED:20250802T002000Z
LAST-MODIFIED:20251120T231723Z
UID:10001594-1892199600-1892221200@mountainmangolf.com
SUMMARY:Monday Match
DESCRIPTION:You can regester for the points match here.
URL:https://mountainmangolf.com/event/monday-match-4/2029-12-17/
LOCATION:Apple Mountain Golf club\, 901 Rock Ford Rd\, Clarkesville\, GA\, 30523\, United States
CATEGORIES:Golf Points
ATTACH;FMTTYPE=image/jpeg:https://mountainmangolf.com/wp-content/uploads/2021/06/JPEG_black_and_white1317-1.jpg
ORGANIZER;CN="Jimmy Goodman":MAILTO:mountainmangolfapple@gmail.com
END:VEVENT
BEGIN:VEVENT
DTSTART;TZID=America/New_York:20291219T110000
DTEND;TZID=America/New_York:20291219T170000
DTSTAMP:20260424T101858
CREATED:20250304T044027Z
LAST-MODIFIED:20251014T144713Z
UID:10001294-1892372400-1892394000@mountainmangolf.com
SUMMARY:Wendsday Match
DESCRIPTION:You Can Regester for the points match here.
URL:https://mountainmangolf.com/event/wensday-match/2029-12-19/
LOCATION:Apple Mountain Golf club\, 901 Rock Ford Rd\, Clarkesville\, GA\, 30523\, United States
CATEGORIES:Golf Points
ATTACH;FMTTYPE=image/jpeg:https://mountainmangolf.com/wp-content/uploads/2021/06/JPEG_black_and_white1317-1.jpg
ORGANIZER;CN="Jimmy Goodman":MAILTO:mountainmangolfapple@gmail.com
END:VEVENT
BEGIN:VEVENT
DTSTART;TZID=America/New_York:20291224T110000
DTEND;TZID=America/New_York:20291224T170000
DTSTAMP:20260424T101858
CREATED:20250802T002000Z
LAST-MODIFIED:20251120T231723Z
UID:10001595-1892804400-1892826000@mountainmangolf.com
SUMMARY:Monday Match
DESCRIPTION:You can regester for the points match here.
URL:https://mountainmangolf.com/event/monday-match-4/2029-12-24/
LOCATION:Apple Mountain Golf club\, 901 Rock Ford Rd\, Clarkesville\, GA\, 30523\, United States
CATEGORIES:Golf Points
ATTACH;FMTTYPE=image/jpeg:https://mountainmangolf.com/wp-content/uploads/2021/06/JPEG_black_and_white1317-1.jpg
ORGANIZER;CN="Jimmy Goodman":MAILTO:mountainmangolfapple@gmail.com
END:VEVENT
BEGIN:VEVENT
DTSTART;TZID=America/New_York:20291226T110000
DTEND;TZID=America/New_York:20291226T170000
DTSTAMP:20260424T101858
CREATED:20250304T044027Z
LAST-MODIFIED:20251014T144713Z
UID:10001295-1892977200-1892998800@mountainmangolf.com
SUMMARY:Wendsday Match
DESCRIPTION:You Can Regester for the points match here.
URL:https://mountainmangolf.com/event/wensday-match/2029-12-26/
LOCATION:Apple Mountain Golf club\, 901 Rock Ford Rd\, Clarkesville\, GA\, 30523\, United States
CATEGORIES:Golf Points
ATTACH;FMTTYPE=image/jpeg:https://mountainmangolf.com/wp-content/uploads/2021/06/JPEG_black_and_white1317-1.jpg
ORGANIZER;CN="Jimmy Goodman":MAILTO:mountainmangolfapple@gmail.com
END:VEVENT
BEGIN:VEVENT
DTSTART;TZID=America/New_York:20291231T110000
DTEND;TZID=America/New_York:20291231T170000
DTSTAMP:20260424T101858
CREATED:20250802T002000Z
LAST-MODIFIED:20251120T231723Z
UID:10001596-1893409200-1893430800@mountainmangolf.com
SUMMARY:Monday Match
DESCRIPTION:You can regester for the points match here.
URL:https://mountainmangolf.com/event/monday-match-4/2029-12-31/
LOCATION:Apple Mountain Golf club\, 901 Rock Ford Rd\, Clarkesville\, GA\, 30523\, United States
CATEGORIES:Golf Points
ATTACH;FMTTYPE=image/jpeg:https://mountainmangolf.com/wp-content/uploads/2021/06/JPEG_black_and_white1317-1.jpg
ORGANIZER;CN="Jimmy Goodman":MAILTO:mountainmangolfapple@gmail.com
END:VEVENT
BEGIN:VEVENT
DTSTART;TZID=America/New_York:20300102T110000
DTEND;TZID=America/New_York:20300102T170000
DTSTAMP:20260424T101858
CREATED:20250304T044027Z
LAST-MODIFIED:20251014T144713Z
UID:10001296-1893582000-1893603600@mountainmangolf.com
SUMMARY:Wendsday Match
DESCRIPTION:You Can Regester for the points match here.
URL:https://mountainmangolf.com/event/wensday-match/2030-01-02/
LOCATION:Apple Mountain Golf club\, 901 Rock Ford Rd\, Clarkesville\, GA\, 30523\, United States
CATEGORIES:Golf Points
ATTACH;FMTTYPE=image/jpeg:https://mountainmangolf.com/wp-content/uploads/2021/06/JPEG_black_and_white1317-1.jpg
ORGANIZER;CN="Jimmy Goodman":MAILTO:mountainmangolfapple@gmail.com
END:VEVENT
BEGIN:VEVENT
DTSTART;TZID=America/New_York:20300107T110000
DTEND;TZID=America/New_York:20300107T170000
DTSTAMP:20260424T101858
CREATED:20250802T002000Z
LAST-MODIFIED:20251120T231723Z
UID:10001597-1894014000-1894035600@mountainmangolf.com
SUMMARY:Monday Match
DESCRIPTION:You can regester for the points match here.
URL:https://mountainmangolf.com/event/monday-match-4/2030-01-07/
LOCATION:Apple Mountain Golf club\, 901 Rock Ford Rd\, Clarkesville\, GA\, 30523\, United States
CATEGORIES:Golf Points
ATTACH;FMTTYPE=image/jpeg:https://mountainmangolf.com/wp-content/uploads/2021/06/JPEG_black_and_white1317-1.jpg
ORGANIZER;CN="Jimmy Goodman":MAILTO:mountainmangolfapple@gmail.com
END:VEVENT
BEGIN:VEVENT
DTSTART;TZID=America/New_York:20300109T110000
DTEND;TZID=America/New_York:20300109T170000
DTSTAMP:20260424T101858
CREATED:20250304T044027Z
LAST-MODIFIED:20251014T144713Z
UID:10001297-1894186800-1894208400@mountainmangolf.com
SUMMARY:Wendsday Match
DESCRIPTION:You Can Regester for the points match here.
URL:https://mountainmangolf.com/event/wensday-match/2030-01-09/
LOCATION:Apple Mountain Golf club\, 901 Rock Ford Rd\, Clarkesville\, GA\, 30523\, United States
CATEGORIES:Golf Points
ATTACH;FMTTYPE=image/jpeg:https://mountainmangolf.com/wp-content/uploads/2021/06/JPEG_black_and_white1317-1.jpg
ORGANIZER;CN="Jimmy Goodman":MAILTO:mountainmangolfapple@gmail.com
END:VEVENT
BEGIN:VEVENT
DTSTART;TZID=America/New_York:20300114T110000
DTEND;TZID=America/New_York:20300114T170000
DTSTAMP:20260424T101858
CREATED:20250802T002000Z
LAST-MODIFIED:20251120T231723Z
UID:10001598-1894618800-1894640400@mountainmangolf.com
SUMMARY:Monday Match
DESCRIPTION:You can regester for the points match here.
URL:https://mountainmangolf.com/event/monday-match-4/2030-01-14/
LOCATION:Apple Mountain Golf club\, 901 Rock Ford Rd\, Clarkesville\, GA\, 30523\, United States
CATEGORIES:Golf Points
ATTACH;FMTTYPE=image/jpeg:https://mountainmangolf.com/wp-content/uploads/2021/06/JPEG_black_and_white1317-1.jpg
ORGANIZER;CN="Jimmy Goodman":MAILTO:mountainmangolfapple@gmail.com
END:VEVENT
BEGIN:VEVENT
DTSTART;TZID=America/New_York:20300116T110000
DTEND;TZID=America/New_York:20300116T170000
DTSTAMP:20260424T101858
CREATED:20250304T044027Z
LAST-MODIFIED:20251014T144713Z
UID:10001298-1894791600-1894813200@mountainmangolf.com
SUMMARY:Wendsday Match
DESCRIPTION:You Can Regester for the points match here.
URL:https://mountainmangolf.com/event/wensday-match/2030-01-16/
LOCATION:Apple Mountain Golf club\, 901 Rock Ford Rd\, Clarkesville\, GA\, 30523\, United States
CATEGORIES:Golf Points
ATTACH;FMTTYPE=image/jpeg:https://mountainmangolf.com/wp-content/uploads/2021/06/JPEG_black_and_white1317-1.jpg
ORGANIZER;CN="Jimmy Goodman":MAILTO:mountainmangolfapple@gmail.com
END:VEVENT
BEGIN:VEVENT
DTSTART;TZID=America/New_York:20300121T110000
DTEND;TZID=America/New_York:20300121T170000
DTSTAMP:20260424T101858
CREATED:20250802T002000Z
LAST-MODIFIED:20251120T231723Z
UID:10001599-1895223600-1895245200@mountainmangolf.com
SUMMARY:Monday Match
DESCRIPTION:You can regester for the points match here.
URL:https://mountainmangolf.com/event/monday-match-4/2030-01-21/
LOCATION:Apple Mountain Golf club\, 901 Rock Ford Rd\, Clarkesville\, GA\, 30523\, United States
CATEGORIES:Golf Points
ATTACH;FMTTYPE=image/jpeg:https://mountainmangolf.com/wp-content/uploads/2021/06/JPEG_black_and_white1317-1.jpg
ORGANIZER;CN="Jimmy Goodman":MAILTO:mountainmangolfapple@gmail.com
END:VEVENT
BEGIN:VEVENT
DTSTART;TZID=America/New_York:20300123T110000
DTEND;TZID=America/New_York:20300123T170000
DTSTAMP:20260424T101858
CREATED:20250304T044027Z
LAST-MODIFIED:20251014T144713Z
UID:10001299-1895396400-1895418000@mountainmangolf.com
SUMMARY:Wendsday Match
DESCRIPTION:You Can Regester for the points match here.
URL:https://mountainmangolf.com/event/wensday-match/2030-01-23/
LOCATION:Apple Mountain Golf club\, 901 Rock Ford Rd\, Clarkesville\, GA\, 30523\, United States
CATEGORIES:Golf Points
ATTACH;FMTTYPE=image/jpeg:https://mountainmangolf.com/wp-content/uploads/2021/06/JPEG_black_and_white1317-1.jpg
ORGANIZER;CN="Jimmy Goodman":MAILTO:mountainmangolfapple@gmail.com
END:VEVENT
BEGIN:VEVENT
DTSTART;TZID=America/New_York:20300128T110000
DTEND;TZID=America/New_York:20300128T170000
DTSTAMP:20260424T101858
CREATED:20250802T002000Z
LAST-MODIFIED:20251120T231723Z
UID:10001600-1895828400-1895850000@mountainmangolf.com
SUMMARY:Monday Match
DESCRIPTION:You can regester for the points match here.
URL:https://mountainmangolf.com/event/monday-match-4/2030-01-28/
LOCATION:Apple Mountain Golf club\, 901 Rock Ford Rd\, Clarkesville\, GA\, 30523\, United States
CATEGORIES:Golf Points
ATTACH;FMTTYPE=image/jpeg:https://mountainmangolf.com/wp-content/uploads/2021/06/JPEG_black_and_white1317-1.jpg
ORGANIZER;CN="Jimmy Goodman":MAILTO:mountainmangolfapple@gmail.com
END:VEVENT
BEGIN:VEVENT
DTSTART;TZID=America/New_York:20300130T110000
DTEND;TZID=America/New_York:20300130T170000
DTSTAMP:20260424T101858
CREATED:20250304T044027Z
LAST-MODIFIED:20251014T144713Z
UID:10001300-1896001200-1896022800@mountainmangolf.com
SUMMARY:Wendsday Match
DESCRIPTION:You Can Regester for the points match here.
URL:https://mountainmangolf.com/event/wensday-match/2030-01-30/
LOCATION:Apple Mountain Golf club\, 901 Rock Ford Rd\, Clarkesville\, GA\, 30523\, United States
CATEGORIES:Golf Points
ATTACH;FMTTYPE=image/jpeg:https://mountainmangolf.com/wp-content/uploads/2021/06/JPEG_black_and_white1317-1.jpg
ORGANIZER;CN="Jimmy Goodman":MAILTO:mountainmangolfapple@gmail.com
END:VEVENT
BEGIN:VEVENT
DTSTART;TZID=America/New_York:20300204T110000
DTEND;TZID=America/New_York:20300204T170000
DTSTAMP:20260424T101858
CREATED:20250802T002000Z
LAST-MODIFIED:20251120T231723Z
UID:10001601-1896433200-1896454800@mountainmangolf.com
SUMMARY:Monday Match
DESCRIPTION:You can regester for the points match here.
URL:https://mountainmangolf.com/event/monday-match-4/2030-02-04/
LOCATION:Apple Mountain Golf club\, 901 Rock Ford Rd\, Clarkesville\, GA\, 30523\, United States
CATEGORIES:Golf Points
ATTACH;FMTTYPE=image/jpeg:https://mountainmangolf.com/wp-content/uploads/2021/06/JPEG_black_and_white1317-1.jpg
ORGANIZER;CN="Jimmy Goodman":MAILTO:mountainmangolfapple@gmail.com
END:VEVENT
BEGIN:VEVENT
DTSTART;TZID=America/New_York:20300206T110000
DTEND;TZID=America/New_York:20300206T170000
DTSTAMP:20260424T101858
CREATED:20250304T044027Z
LAST-MODIFIED:20251014T144713Z
UID:10001301-1896606000-1896627600@mountainmangolf.com
SUMMARY:Wendsday Match
DESCRIPTION:You Can Regester for the points match here.
URL:https://mountainmangolf.com/event/wensday-match/2030-02-06/
LOCATION:Apple Mountain Golf club\, 901 Rock Ford Rd\, Clarkesville\, GA\, 30523\, United States
CATEGORIES:Golf Points
ATTACH;FMTTYPE=image/jpeg:https://mountainmangolf.com/wp-content/uploads/2021/06/JPEG_black_and_white1317-1.jpg
ORGANIZER;CN="Jimmy Goodman":MAILTO:mountainmangolfapple@gmail.com
END:VEVENT
BEGIN:VEVENT
DTSTART;TZID=America/New_York:20300211T110000
DTEND;TZID=America/New_York:20300211T170000
DTSTAMP:20260424T101858
CREATED:20250802T002000Z
LAST-MODIFIED:20251120T231723Z
UID:10001602-1897038000-1897059600@mountainmangolf.com
SUMMARY:Monday Match
DESCRIPTION:You can regester for the points match here.
URL:https://mountainmangolf.com/event/monday-match-4/2030-02-11/
LOCATION:Apple Mountain Golf club\, 901 Rock Ford Rd\, Clarkesville\, GA\, 30523\, United States
CATEGORIES:Golf Points
ATTACH;FMTTYPE=image/jpeg:https://mountainmangolf.com/wp-content/uploads/2021/06/JPEG_black_and_white1317-1.jpg
ORGANIZER;CN="Jimmy Goodman":MAILTO:mountainmangolfapple@gmail.com
END:VEVENT
BEGIN:VEVENT
DTSTART;TZID=America/New_York:20300213T110000
DTEND;TZID=America/New_York:20300213T170000
DTSTAMP:20260424T101858
CREATED:20250304T044027Z
LAST-MODIFIED:20251014T144713Z
UID:10001302-1897210800-1897232400@mountainmangolf.com
SUMMARY:Wendsday Match
DESCRIPTION:You Can Regester for the points match here.
URL:https://mountainmangolf.com/event/wensday-match/2030-02-13/
LOCATION:Apple Mountain Golf club\, 901 Rock Ford Rd\, Clarkesville\, GA\, 30523\, United States
CATEGORIES:Golf Points
ATTACH;FMTTYPE=image/jpeg:https://mountainmangolf.com/wp-content/uploads/2021/06/JPEG_black_and_white1317-1.jpg
ORGANIZER;CN="Jimmy Goodman":MAILTO:mountainmangolfapple@gmail.com
END:VEVENT
BEGIN:VEVENT
DTSTART;TZID=America/New_York:20300218T110000
DTEND;TZID=America/New_York:20300218T170000
DTSTAMP:20260424T101858
CREATED:20250802T002000Z
LAST-MODIFIED:20251120T231723Z
UID:10001603-1897642800-1897664400@mountainmangolf.com
SUMMARY:Monday Match
DESCRIPTION:You can regester for the points match here.
URL:https://mountainmangolf.com/event/monday-match-4/2030-02-18/
LOCATION:Apple Mountain Golf club\, 901 Rock Ford Rd\, Clarkesville\, GA\, 30523\, United States
CATEGORIES:Golf Points
ATTACH;FMTTYPE=image/jpeg:https://mountainmangolf.com/wp-content/uploads/2021/06/JPEG_black_and_white1317-1.jpg
ORGANIZER;CN="Jimmy Goodman":MAILTO:mountainmangolfapple@gmail.com
END:VEVENT
BEGIN:VEVENT
DTSTART;TZID=America/New_York:20300220T110000
DTEND;TZID=America/New_York:20300220T170000
DTSTAMP:20260424T101858
CREATED:20250304T044027Z
LAST-MODIFIED:20251014T144713Z
UID:10001303-1897815600-1897837200@mountainmangolf.com
SUMMARY:Wendsday Match
DESCRIPTION:You Can Regester for the points match here.
URL:https://mountainmangolf.com/event/wensday-match/2030-02-20/
LOCATION:Apple Mountain Golf club\, 901 Rock Ford Rd\, Clarkesville\, GA\, 30523\, United States
CATEGORIES:Golf Points
ATTACH;FMTTYPE=image/jpeg:https://mountainmangolf.com/wp-content/uploads/2021/06/JPEG_black_and_white1317-1.jpg
ORGANIZER;CN="Jimmy Goodman":MAILTO:mountainmangolfapple@gmail.com
END:VEVENT
BEGIN:VEVENT
DTSTART;TZID=America/New_York:20300225T110000
DTEND;TZID=America/New_York:20300225T170000
DTSTAMP:20260424T101858
CREATED:20250802T002000Z
LAST-MODIFIED:20251120T231723Z
UID:10001604-1898247600-1898269200@mountainmangolf.com
SUMMARY:Monday Match
DESCRIPTION:You can regester for the points match here.
URL:https://mountainmangolf.com/event/monday-match-4/2030-02-25/
LOCATION:Apple Mountain Golf club\, 901 Rock Ford Rd\, Clarkesville\, GA\, 30523\, United States
CATEGORIES:Golf Points
ATTACH;FMTTYPE=image/jpeg:https://mountainmangolf.com/wp-content/uploads/2021/06/JPEG_black_and_white1317-1.jpg
ORGANIZER;CN="Jimmy Goodman":MAILTO:mountainmangolfapple@gmail.com
END:VEVENT
BEGIN:VEVENT
DTSTART;TZID=America/New_York:20300227T110000
DTEND;TZID=America/New_York:20300227T170000
DTSTAMP:20260424T101858
CREATED:20250304T044027Z
LAST-MODIFIED:20251014T144713Z
UID:10001304-1898420400-1898442000@mountainmangolf.com
SUMMARY:Wendsday Match
DESCRIPTION:You Can Regester for the points match here.
URL:https://mountainmangolf.com/event/wensday-match/2030-02-27/
LOCATION:Apple Mountain Golf club\, 901 Rock Ford Rd\, Clarkesville\, GA\, 30523\, United States
CATEGORIES:Golf Points
ATTACH;FMTTYPE=image/jpeg:https://mountainmangolf.com/wp-content/uploads/2021/06/JPEG_black_and_white1317-1.jpg
ORGANIZER;CN="Jimmy Goodman":MAILTO:mountainmangolfapple@gmail.com
END:VEVENT
BEGIN:VEVENT
DTSTART;TZID=America/New_York:20300304T110000
DTEND;TZID=America/New_York:20300304T170000
DTSTAMP:20260424T101858
CREATED:20250802T002000Z
LAST-MODIFIED:20251120T231723Z
UID:10001605-1898852400-1898874000@mountainmangolf.com
SUMMARY:Monday Match
DESCRIPTION:You can regester for the points match here.
URL:https://mountainmangolf.com/event/monday-match-4/2030-03-04/
LOCATION:Apple Mountain Golf club\, 901 Rock Ford Rd\, Clarkesville\, GA\, 30523\, United States
CATEGORIES:Golf Points
ATTACH;FMTTYPE=image/jpeg:https://mountainmangolf.com/wp-content/uploads/2021/06/JPEG_black_and_white1317-1.jpg
ORGANIZER;CN="Jimmy Goodman":MAILTO:mountainmangolfapple@gmail.com
END:VEVENT
BEGIN:VEVENT
DTSTART;TZID=America/New_York:20300306T110000
DTEND;TZID=America/New_York:20300306T170000
DTSTAMP:20260424T101858
CREATED:20250304T044027Z
LAST-MODIFIED:20251014T144713Z
UID:10001307-1899025200-1899046800@mountainmangolf.com
SUMMARY:Wendsday Match
DESCRIPTION:You Can Regester for the points match here.
URL:https://mountainmangolf.com/event/wensday-match/2030-03-06/
LOCATION:Apple Mountain Golf club\, 901 Rock Ford Rd\, Clarkesville\, GA\, 30523\, United States
CATEGORIES:Golf Points
ATTACH;FMTTYPE=image/jpeg:https://mountainmangolf.com/wp-content/uploads/2021/06/JPEG_black_and_white1317-1.jpg
ORGANIZER;CN="Jimmy Goodman":MAILTO:mountainmangolfapple@gmail.com
END:VEVENT
BEGIN:VEVENT
DTSTART;TZID=America/New_York:20300311T110000
DTEND;TZID=America/New_York:20300311T170000
DTSTAMP:20260424T101858
CREATED:20250802T002000Z
LAST-MODIFIED:20251120T231723Z
UID:10001606-1899457200-1899478800@mountainmangolf.com
SUMMARY:Monday Match
DESCRIPTION:You can regester for the points match here.
URL:https://mountainmangolf.com/event/monday-match-4/2030-03-11/
LOCATION:Apple Mountain Golf club\, 901 Rock Ford Rd\, Clarkesville\, GA\, 30523\, United States
CATEGORIES:Golf Points
ATTACH;FMTTYPE=image/jpeg:https://mountainmangolf.com/wp-content/uploads/2021/06/JPEG_black_and_white1317-1.jpg
ORGANIZER;CN="Jimmy Goodman":MAILTO:mountainmangolfapple@gmail.com
END:VEVENT
BEGIN:VEVENT
DTSTART;TZID=America/New_York:20300313T110000
DTEND;TZID=America/New_York:20300313T170000
DTSTAMP:20260424T101858
CREATED:20250304T044027Z
LAST-MODIFIED:20251014T144713Z
UID:10001313-1899630000-1899651600@mountainmangolf.com
SUMMARY:Wendsday Match
DESCRIPTION:You Can Regester for the points match here.
URL:https://mountainmangolf.com/event/wensday-match/2030-03-13/
LOCATION:Apple Mountain Golf club\, 901 Rock Ford Rd\, Clarkesville\, GA\, 30523\, United States
CATEGORIES:Golf Points
ATTACH;FMTTYPE=image/jpeg:https://mountainmangolf.com/wp-content/uploads/2021/06/JPEG_black_and_white1317-1.jpg
ORGANIZER;CN="Jimmy Goodman":MAILTO:mountainmangolfapple@gmail.com
END:VEVENT
BEGIN:VEVENT
DTSTART;TZID=America/New_York:20300318T110000
DTEND;TZID=America/New_York:20300318T170000
DTSTAMP:20260424T101858
CREATED:20250802T002000Z
LAST-MODIFIED:20251120T231723Z
UID:10001607-1900062000-1900083600@mountainmangolf.com
SUMMARY:Monday Match
DESCRIPTION:You can regester for the points match here.
URL:https://mountainmangolf.com/event/monday-match-4/2030-03-18/
LOCATION:Apple Mountain Golf club\, 901 Rock Ford Rd\, Clarkesville\, GA\, 30523\, United States
CATEGORIES:Golf Points
ATTACH;FMTTYPE=image/jpeg:https://mountainmangolf.com/wp-content/uploads/2021/06/JPEG_black_and_white1317-1.jpg
ORGANIZER;CN="Jimmy Goodman":MAILTO:mountainmangolfapple@gmail.com
END:VEVENT
BEGIN:VEVENT
DTSTART;TZID=America/New_York:20300320T110000
DTEND;TZID=America/New_York:20300320T170000
DTSTAMP:20260424T101858
CREATED:20250304T044027Z
LAST-MODIFIED:20251014T144713Z
UID:10001314-1900234800-1900256400@mountainmangolf.com
SUMMARY:Wendsday Match
DESCRIPTION:You Can Regester for the points match here.
URL:https://mountainmangolf.com/event/wensday-match/2030-03-20/
LOCATION:Apple Mountain Golf club\, 901 Rock Ford Rd\, Clarkesville\, GA\, 30523\, United States
CATEGORIES:Golf Points
ATTACH;FMTTYPE=image/jpeg:https://mountainmangolf.com/wp-content/uploads/2021/06/JPEG_black_and_white1317-1.jpg
ORGANIZER;CN="Jimmy Goodman":MAILTO:mountainmangolfapple@gmail.com
END:VEVENT
END:VCALENDAR