BEGIN:VCALENDAR
VERSION:2.0
PRODID:-//Mountain Man Golf - ECPv6.15.20//NONSGML v1.0//EN
CALSCALE:GREGORIAN
METHOD:PUBLISH
X-WR-CALNAME:Mountain Man Golf
X-ORIGINAL-URL:https://mountainmangolf.com
X-WR-CALDESC:Events for Mountain Man Golf
REFRESH-INTERVAL;VALUE=DURATION:PT1H
X-Robots-Tag:noindex
X-PUBLISHED-TTL:PT1H
BEGIN:VTIMEZONE
TZID:America/New_York
BEGIN:DAYLIGHT
TZOFFSETFROM:-0500
TZOFFSETTO:-0400
TZNAME:EDT
DTSTART:20290311T070000
END:DAYLIGHT
BEGIN:STANDARD
TZOFFSETFROM:-0400
TZOFFSETTO:-0500
TZNAME:EST
DTSTART:20291104T060000
END:STANDARD
BEGIN:DAYLIGHT
TZOFFSETFROM:-0500
TZOFFSETTO:-0400
TZNAME:EDT
DTSTART:20300310T070000
END:DAYLIGHT
BEGIN:STANDARD
TZOFFSETFROM:-0400
TZOFFSETTO:-0500
TZNAME:EST
DTSTART:20301103T060000
END:STANDARD
BEGIN:DAYLIGHT
TZOFFSETFROM:-0500
TZOFFSETTO:-0400
TZNAME:EDT
DTSTART:20310309T070000
END:DAYLIGHT
BEGIN:STANDARD
TZOFFSETFROM:-0400
TZOFFSETTO:-0500
TZNAME:EST
DTSTART:20311102T060000
END:STANDARD
END:VTIMEZONE
BEGIN:VEVENT
DTSTART;TZID=America/New_York:20300506T110000
DTEND;TZID=America/New_York:20300506T170000
DTSTAMP:20260424T224039
CREATED:20250802T002000Z
LAST-MODIFIED:20251120T231723Z
UID:10001614-1904295600-1904317200@mountainmangolf.com
SUMMARY:Monday Match
DESCRIPTION:You can regester for the points match here.
URL:https://mountainmangolf.com/event/monday-match-4/2030-05-06/
LOCATION:Apple Mountain Golf club\, 901 Rock Ford Rd\, Clarkesville\, GA\, 30523\, United States
CATEGORIES:Golf Points
ATTACH;FMTTYPE=image/jpeg:https://mountainmangolf.com/wp-content/uploads/2021/06/JPEG_black_and_white1317-1.jpg
ORGANIZER;CN="Jimmy Goodman":MAILTO:mountainmangolfapple@gmail.com
END:VEVENT
BEGIN:VEVENT
DTSTART;TZID=America/New_York:20300508T110000
DTEND;TZID=America/New_York:20300508T170000
DTSTAMP:20260424T224039
CREATED:20250304T044027Z
LAST-MODIFIED:20251014T144713Z
UID:10001324-1904468400-1904490000@mountainmangolf.com
SUMMARY:Wendsday Match
DESCRIPTION:You Can Regester for the points match here.
URL:https://mountainmangolf.com/event/wensday-match/2030-05-08/
LOCATION:Apple Mountain Golf club\, 901 Rock Ford Rd\, Clarkesville\, GA\, 30523\, United States
CATEGORIES:Golf Points
ATTACH;FMTTYPE=image/jpeg:https://mountainmangolf.com/wp-content/uploads/2021/06/JPEG_black_and_white1317-1.jpg
ORGANIZER;CN="Jimmy Goodman":MAILTO:mountainmangolfapple@gmail.com
END:VEVENT
BEGIN:VEVENT
DTSTART;TZID=America/New_York:20300513T110000
DTEND;TZID=America/New_York:20300513T170000
DTSTAMP:20260424T224039
CREATED:20250802T002000Z
LAST-MODIFIED:20251120T231723Z
UID:10001615-1904900400-1904922000@mountainmangolf.com
SUMMARY:Monday Match
DESCRIPTION:You can regester for the points match here.
URL:https://mountainmangolf.com/event/monday-match-4/2030-05-13/
LOCATION:Apple Mountain Golf club\, 901 Rock Ford Rd\, Clarkesville\, GA\, 30523\, United States
CATEGORIES:Golf Points
ATTACH;FMTTYPE=image/jpeg:https://mountainmangolf.com/wp-content/uploads/2021/06/JPEG_black_and_white1317-1.jpg
ORGANIZER;CN="Jimmy Goodman":MAILTO:mountainmangolfapple@gmail.com
END:VEVENT
BEGIN:VEVENT
DTSTART;TZID=America/New_York:20300515T110000
DTEND;TZID=America/New_York:20300515T170000
DTSTAMP:20260424T224039
CREATED:20250304T044027Z
LAST-MODIFIED:20251014T144713Z
UID:10001325-1905073200-1905094800@mountainmangolf.com
SUMMARY:Wendsday Match
DESCRIPTION:You Can Regester for the points match here.
URL:https://mountainmangolf.com/event/wensday-match/2030-05-15/
LOCATION:Apple Mountain Golf club\, 901 Rock Ford Rd\, Clarkesville\, GA\, 30523\, United States
CATEGORIES:Golf Points
ATTACH;FMTTYPE=image/jpeg:https://mountainmangolf.com/wp-content/uploads/2021/06/JPEG_black_and_white1317-1.jpg
ORGANIZER;CN="Jimmy Goodman":MAILTO:mountainmangolfapple@gmail.com
END:VEVENT
BEGIN:VEVENT
DTSTART;TZID=America/New_York:20300520T110000
DTEND;TZID=America/New_York:20300520T170000
DTSTAMP:20260424T224039
CREATED:20250802T002000Z
LAST-MODIFIED:20251120T231723Z
UID:10001616-1905505200-1905526800@mountainmangolf.com
SUMMARY:Monday Match
DESCRIPTION:You can regester for the points match here.
URL:https://mountainmangolf.com/event/monday-match-4/2030-05-20/
LOCATION:Apple Mountain Golf club\, 901 Rock Ford Rd\, Clarkesville\, GA\, 30523\, United States
CATEGORIES:Golf Points
ATTACH;FMTTYPE=image/jpeg:https://mountainmangolf.com/wp-content/uploads/2021/06/JPEG_black_and_white1317-1.jpg
ORGANIZER;CN="Jimmy Goodman":MAILTO:mountainmangolfapple@gmail.com
END:VEVENT
BEGIN:VEVENT
DTSTART;TZID=America/New_York:20300522T110000
DTEND;TZID=America/New_York:20300522T170000
DTSTAMP:20260424T224039
CREATED:20250304T044027Z
LAST-MODIFIED:20251014T144713Z
UID:10001326-1905678000-1905699600@mountainmangolf.com
SUMMARY:Wendsday Match
DESCRIPTION:You Can Regester for the points match here.
URL:https://mountainmangolf.com/event/wensday-match/2030-05-22/
LOCATION:Apple Mountain Golf club\, 901 Rock Ford Rd\, Clarkesville\, GA\, 30523\, United States
CATEGORIES:Golf Points
ATTACH;FMTTYPE=image/jpeg:https://mountainmangolf.com/wp-content/uploads/2021/06/JPEG_black_and_white1317-1.jpg
ORGANIZER;CN="Jimmy Goodman":MAILTO:mountainmangolfapple@gmail.com
END:VEVENT
BEGIN:VEVENT
DTSTART;TZID=America/New_York:20300527T110000
DTEND;TZID=America/New_York:20300527T170000
DTSTAMP:20260424T224039
CREATED:20250802T002000Z
LAST-MODIFIED:20251120T231723Z
UID:10001617-1906110000-1906131600@mountainmangolf.com
SUMMARY:Monday Match
DESCRIPTION:You can regester for the points match here.
URL:https://mountainmangolf.com/event/monday-match-4/2030-05-27/
LOCATION:Apple Mountain Golf club\, 901 Rock Ford Rd\, Clarkesville\, GA\, 30523\, United States
CATEGORIES:Golf Points
ATTACH;FMTTYPE=image/jpeg:https://mountainmangolf.com/wp-content/uploads/2021/06/JPEG_black_and_white1317-1.jpg
ORGANIZER;CN="Jimmy Goodman":MAILTO:mountainmangolfapple@gmail.com
END:VEVENT
BEGIN:VEVENT
DTSTART;TZID=America/New_York:20300529T110000
DTEND;TZID=America/New_York:20300529T170000
DTSTAMP:20260424T224039
CREATED:20250304T044027Z
LAST-MODIFIED:20251014T144713Z
UID:10001331-1906282800-1906304400@mountainmangolf.com
SUMMARY:Wendsday Match
DESCRIPTION:You Can Regester for the points match here.
URL:https://mountainmangolf.com/event/wensday-match/2030-05-29/
LOCATION:Apple Mountain Golf club\, 901 Rock Ford Rd\, Clarkesville\, GA\, 30523\, United States
CATEGORIES:Golf Points
ATTACH;FMTTYPE=image/jpeg:https://mountainmangolf.com/wp-content/uploads/2021/06/JPEG_black_and_white1317-1.jpg
ORGANIZER;CN="Jimmy Goodman":MAILTO:mountainmangolfapple@gmail.com
END:VEVENT
BEGIN:VEVENT
DTSTART;TZID=America/New_York:20300603T110000
DTEND;TZID=America/New_York:20300603T170000
DTSTAMP:20260424T224039
CREATED:20250802T002000Z
LAST-MODIFIED:20251120T231723Z
UID:10001618-1906714800-1906736400@mountainmangolf.com
SUMMARY:Monday Match
DESCRIPTION:You can regester for the points match here.
URL:https://mountainmangolf.com/event/monday-match-4/2030-06-03/
LOCATION:Apple Mountain Golf club\, 901 Rock Ford Rd\, Clarkesville\, GA\, 30523\, United States
CATEGORIES:Golf Points
ATTACH;FMTTYPE=image/jpeg:https://mountainmangolf.com/wp-content/uploads/2021/06/JPEG_black_and_white1317-1.jpg
ORGANIZER;CN="Jimmy Goodman":MAILTO:mountainmangolfapple@gmail.com
END:VEVENT
BEGIN:VEVENT
DTSTART;TZID=America/New_York:20300605T110000
DTEND;TZID=America/New_York:20300605T170000
DTSTAMP:20260424T224039
CREATED:20250304T044027Z
LAST-MODIFIED:20251014T144713Z
UID:10001333-1906887600-1906909200@mountainmangolf.com
SUMMARY:Wendsday Match
DESCRIPTION:You Can Regester for the points match here.
URL:https://mountainmangolf.com/event/wensday-match/2030-06-05/
LOCATION:Apple Mountain Golf club\, 901 Rock Ford Rd\, Clarkesville\, GA\, 30523\, United States
CATEGORIES:Golf Points
ATTACH;FMTTYPE=image/jpeg:https://mountainmangolf.com/wp-content/uploads/2021/06/JPEG_black_and_white1317-1.jpg
ORGANIZER;CN="Jimmy Goodman":MAILTO:mountainmangolfapple@gmail.com
END:VEVENT
BEGIN:VEVENT
DTSTART;TZID=America/New_York:20300610T110000
DTEND;TZID=America/New_York:20300610T170000
DTSTAMP:20260424T224039
CREATED:20250802T002000Z
LAST-MODIFIED:20251120T231723Z
UID:10001619-1907319600-1907341200@mountainmangolf.com
SUMMARY:Monday Match
DESCRIPTION:You can regester for the points match here.
URL:https://mountainmangolf.com/event/monday-match-4/2030-06-10/
LOCATION:Apple Mountain Golf club\, 901 Rock Ford Rd\, Clarkesville\, GA\, 30523\, United States
CATEGORIES:Golf Points
ATTACH;FMTTYPE=image/jpeg:https://mountainmangolf.com/wp-content/uploads/2021/06/JPEG_black_and_white1317-1.jpg
ORGANIZER;CN="Jimmy Goodman":MAILTO:mountainmangolfapple@gmail.com
END:VEVENT
BEGIN:VEVENT
DTSTART;TZID=America/New_York:20300612T110000
DTEND;TZID=America/New_York:20300612T170000
DTSTAMP:20260424T224039
CREATED:20250304T044027Z
LAST-MODIFIED:20251014T144713Z
UID:10001335-1907492400-1907514000@mountainmangolf.com
SUMMARY:Wendsday Match
DESCRIPTION:You Can Regester for the points match here.
URL:https://mountainmangolf.com/event/wensday-match/2030-06-12/
LOCATION:Apple Mountain Golf club\, 901 Rock Ford Rd\, Clarkesville\, GA\, 30523\, United States
CATEGORIES:Golf Points
ATTACH;FMTTYPE=image/jpeg:https://mountainmangolf.com/wp-content/uploads/2021/06/JPEG_black_and_white1317-1.jpg
ORGANIZER;CN="Jimmy Goodman":MAILTO:mountainmangolfapple@gmail.com
END:VEVENT
BEGIN:VEVENT
DTSTART;TZID=America/New_York:20300617T110000
DTEND;TZID=America/New_York:20300617T170000
DTSTAMP:20260424T224039
CREATED:20250802T002000Z
LAST-MODIFIED:20251120T231723Z
UID:10001620-1907924400-1907946000@mountainmangolf.com
SUMMARY:Monday Match
DESCRIPTION:You can regester for the points match here.
URL:https://mountainmangolf.com/event/monday-match-4/2030-06-17/
LOCATION:Apple Mountain Golf club\, 901 Rock Ford Rd\, Clarkesville\, GA\, 30523\, United States
CATEGORIES:Golf Points
ATTACH;FMTTYPE=image/jpeg:https://mountainmangolf.com/wp-content/uploads/2021/06/JPEG_black_and_white1317-1.jpg
ORGANIZER;CN="Jimmy Goodman":MAILTO:mountainmangolfapple@gmail.com
END:VEVENT
BEGIN:VEVENT
DTSTART;TZID=America/New_York:20300619T110000
DTEND;TZID=America/New_York:20300619T170000
DTSTAMP:20260424T224039
CREATED:20250304T044027Z
LAST-MODIFIED:20251014T144713Z
UID:10001337-1908097200-1908118800@mountainmangolf.com
SUMMARY:Wendsday Match
DESCRIPTION:You Can Regester for the points match here.
URL:https://mountainmangolf.com/event/wensday-match/2030-06-19/
LOCATION:Apple Mountain Golf club\, 901 Rock Ford Rd\, Clarkesville\, GA\, 30523\, United States
CATEGORIES:Golf Points
ATTACH;FMTTYPE=image/jpeg:https://mountainmangolf.com/wp-content/uploads/2021/06/JPEG_black_and_white1317-1.jpg
ORGANIZER;CN="Jimmy Goodman":MAILTO:mountainmangolfapple@gmail.com
END:VEVENT
BEGIN:VEVENT
DTSTART;TZID=America/New_York:20300624T110000
DTEND;TZID=America/New_York:20300624T170000
DTSTAMP:20260424T224039
CREATED:20250802T002000Z
LAST-MODIFIED:20251120T231723Z
UID:10001621-1908529200-1908550800@mountainmangolf.com
SUMMARY:Monday Match
DESCRIPTION:You can regester for the points match here.
URL:https://mountainmangolf.com/event/monday-match-4/2030-06-24/
LOCATION:Apple Mountain Golf club\, 901 Rock Ford Rd\, Clarkesville\, GA\, 30523\, United States
CATEGORIES:Golf Points
ATTACH;FMTTYPE=image/jpeg:https://mountainmangolf.com/wp-content/uploads/2021/06/JPEG_black_and_white1317-1.jpg
ORGANIZER;CN="Jimmy Goodman":MAILTO:mountainmangolfapple@gmail.com
END:VEVENT
BEGIN:VEVENT
DTSTART;TZID=America/New_York:20300626T110000
DTEND;TZID=America/New_York:20300626T170000
DTSTAMP:20260424T224039
CREATED:20250304T044027Z
LAST-MODIFIED:20251014T144713Z
UID:10001339-1908702000-1908723600@mountainmangolf.com
SUMMARY:Wendsday Match
DESCRIPTION:You Can Regester for the points match here.
URL:https://mountainmangolf.com/event/wensday-match/2030-06-26/
LOCATION:Apple Mountain Golf club\, 901 Rock Ford Rd\, Clarkesville\, GA\, 30523\, United States
CATEGORIES:Golf Points
ATTACH;FMTTYPE=image/jpeg:https://mountainmangolf.com/wp-content/uploads/2021/06/JPEG_black_and_white1317-1.jpg
ORGANIZER;CN="Jimmy Goodman":MAILTO:mountainmangolfapple@gmail.com
END:VEVENT
BEGIN:VEVENT
DTSTART;TZID=America/New_York:20300701T110000
DTEND;TZID=America/New_York:20300701T170000
DTSTAMP:20260424T224039
CREATED:20250802T002000Z
LAST-MODIFIED:20251120T231723Z
UID:10001622-1909134000-1909155600@mountainmangolf.com
SUMMARY:Monday Match
DESCRIPTION:You can regester for the points match here.
URL:https://mountainmangolf.com/event/monday-match-4/2030-07-01/
LOCATION:Apple Mountain Golf club\, 901 Rock Ford Rd\, Clarkesville\, GA\, 30523\, United States
CATEGORIES:Golf Points
ATTACH;FMTTYPE=image/jpeg:https://mountainmangolf.com/wp-content/uploads/2021/06/JPEG_black_and_white1317-1.jpg
ORGANIZER;CN="Jimmy Goodman":MAILTO:mountainmangolfapple@gmail.com
END:VEVENT
BEGIN:VEVENT
DTSTART;TZID=America/New_York:20300703T110000
DTEND;TZID=America/New_York:20300703T170000
DTSTAMP:20260424T224039
CREATED:20250304T044027Z
LAST-MODIFIED:20251014T144713Z
UID:10001341-1909306800-1909328400@mountainmangolf.com
SUMMARY:Wendsday Match
DESCRIPTION:You Can Regester for the points match here.
URL:https://mountainmangolf.com/event/wensday-match/2030-07-03/
LOCATION:Apple Mountain Golf club\, 901 Rock Ford Rd\, Clarkesville\, GA\, 30523\, United States
CATEGORIES:Golf Points
ATTACH;FMTTYPE=image/jpeg:https://mountainmangolf.com/wp-content/uploads/2021/06/JPEG_black_and_white1317-1.jpg
ORGANIZER;CN="Jimmy Goodman":MAILTO:mountainmangolfapple@gmail.com
END:VEVENT
BEGIN:VEVENT
DTSTART;TZID=America/New_York:20300708T110000
DTEND;TZID=America/New_York:20300708T170000
DTSTAMP:20260424T224039
CREATED:20250802T002000Z
LAST-MODIFIED:20251120T231723Z
UID:10001623-1909738800-1909760400@mountainmangolf.com
SUMMARY:Monday Match
DESCRIPTION:You can regester for the points match here.
URL:https://mountainmangolf.com/event/monday-match-4/2030-07-08/
LOCATION:Apple Mountain Golf club\, 901 Rock Ford Rd\, Clarkesville\, GA\, 30523\, United States
CATEGORIES:Golf Points
ATTACH;FMTTYPE=image/jpeg:https://mountainmangolf.com/wp-content/uploads/2021/06/JPEG_black_and_white1317-1.jpg
ORGANIZER;CN="Jimmy Goodman":MAILTO:mountainmangolfapple@gmail.com
END:VEVENT
BEGIN:VEVENT
DTSTART;TZID=America/New_York:20300710T110000
DTEND;TZID=America/New_York:20300710T170000
DTSTAMP:20260424T224039
CREATED:20250304T044027Z
LAST-MODIFIED:20251014T144713Z
UID:10001343-1909911600-1909933200@mountainmangolf.com
SUMMARY:Wendsday Match
DESCRIPTION:You Can Regester for the points match here.
URL:https://mountainmangolf.com/event/wensday-match/2030-07-10/
LOCATION:Apple Mountain Golf club\, 901 Rock Ford Rd\, Clarkesville\, GA\, 30523\, United States
CATEGORIES:Golf Points
ATTACH;FMTTYPE=image/jpeg:https://mountainmangolf.com/wp-content/uploads/2021/06/JPEG_black_and_white1317-1.jpg
ORGANIZER;CN="Jimmy Goodman":MAILTO:mountainmangolfapple@gmail.com
END:VEVENT
BEGIN:VEVENT
DTSTART;TZID=America/New_York:20300715T110000
DTEND;TZID=America/New_York:20300715T170000
DTSTAMP:20260424T224039
CREATED:20250802T002000Z
LAST-MODIFIED:20251120T231723Z
UID:10001624-1910343600-1910365200@mountainmangolf.com
SUMMARY:Monday Match
DESCRIPTION:You can regester for the points match here.
URL:https://mountainmangolf.com/event/monday-match-4/2030-07-15/
LOCATION:Apple Mountain Golf club\, 901 Rock Ford Rd\, Clarkesville\, GA\, 30523\, United States
CATEGORIES:Golf Points
ATTACH;FMTTYPE=image/jpeg:https://mountainmangolf.com/wp-content/uploads/2021/06/JPEG_black_and_white1317-1.jpg
ORGANIZER;CN="Jimmy Goodman":MAILTO:mountainmangolfapple@gmail.com
END:VEVENT
BEGIN:VEVENT
DTSTART;TZID=America/New_York:20300717T110000
DTEND;TZID=America/New_York:20300717T170000
DTSTAMP:20260424T224039
CREATED:20250304T044027Z
LAST-MODIFIED:20251014T144713Z
UID:10001345-1910516400-1910538000@mountainmangolf.com
SUMMARY:Wendsday Match
DESCRIPTION:You Can Regester for the points match here.
URL:https://mountainmangolf.com/event/wensday-match/2030-07-17/
LOCATION:Apple Mountain Golf club\, 901 Rock Ford Rd\, Clarkesville\, GA\, 30523\, United States
CATEGORIES:Golf Points
ATTACH;FMTTYPE=image/jpeg:https://mountainmangolf.com/wp-content/uploads/2021/06/JPEG_black_and_white1317-1.jpg
ORGANIZER;CN="Jimmy Goodman":MAILTO:mountainmangolfapple@gmail.com
END:VEVENT
BEGIN:VEVENT
DTSTART;TZID=America/New_York:20300722T110000
DTEND;TZID=America/New_York:20300722T170000
DTSTAMP:20260424T224039
CREATED:20250802T002000Z
LAST-MODIFIED:20251120T231723Z
UID:10001625-1910948400-1910970000@mountainmangolf.com
SUMMARY:Monday Match
DESCRIPTION:You can regester for the points match here.
URL:https://mountainmangolf.com/event/monday-match-4/2030-07-22/
LOCATION:Apple Mountain Golf club\, 901 Rock Ford Rd\, Clarkesville\, GA\, 30523\, United States
CATEGORIES:Golf Points
ATTACH;FMTTYPE=image/jpeg:https://mountainmangolf.com/wp-content/uploads/2021/06/JPEG_black_and_white1317-1.jpg
ORGANIZER;CN="Jimmy Goodman":MAILTO:mountainmangolfapple@gmail.com
END:VEVENT
BEGIN:VEVENT
DTSTART;TZID=America/New_York:20300724T110000
DTEND;TZID=America/New_York:20300724T170000
DTSTAMP:20260424T224039
CREATED:20250304T044027Z
LAST-MODIFIED:20251014T144713Z
UID:10001346-1911121200-1911142800@mountainmangolf.com
SUMMARY:Wendsday Match
DESCRIPTION:You Can Regester for the points match here.
URL:https://mountainmangolf.com/event/wensday-match/2030-07-24/
LOCATION:Apple Mountain Golf club\, 901 Rock Ford Rd\, Clarkesville\, GA\, 30523\, United States
CATEGORIES:Golf Points
ATTACH;FMTTYPE=image/jpeg:https://mountainmangolf.com/wp-content/uploads/2021/06/JPEG_black_and_white1317-1.jpg
ORGANIZER;CN="Jimmy Goodman":MAILTO:mountainmangolfapple@gmail.com
END:VEVENT
BEGIN:VEVENT
DTSTART;TZID=America/New_York:20300729T110000
DTEND;TZID=America/New_York:20300729T170000
DTSTAMP:20260424T224039
CREATED:20250802T002000Z
LAST-MODIFIED:20251120T231723Z
UID:10001626-1911553200-1911574800@mountainmangolf.com
SUMMARY:Monday Match
DESCRIPTION:You can regester for the points match here.
URL:https://mountainmangolf.com/event/monday-match-4/2030-07-29/
LOCATION:Apple Mountain Golf club\, 901 Rock Ford Rd\, Clarkesville\, GA\, 30523\, United States
CATEGORIES:Golf Points
ATTACH;FMTTYPE=image/jpeg:https://mountainmangolf.com/wp-content/uploads/2021/06/JPEG_black_and_white1317-1.jpg
ORGANIZER;CN="Jimmy Goodman":MAILTO:mountainmangolfapple@gmail.com
END:VEVENT
BEGIN:VEVENT
DTSTART;TZID=America/New_York:20300731T110000
DTEND;TZID=America/New_York:20300731T170000
DTSTAMP:20260424T224039
CREATED:20250304T044027Z
LAST-MODIFIED:20251014T144713Z
UID:10001349-1911726000-1911747600@mountainmangolf.com
SUMMARY:Wendsday Match
DESCRIPTION:You Can Regester for the points match here.
URL:https://mountainmangolf.com/event/wensday-match/2030-07-31/
LOCATION:Apple Mountain Golf club\, 901 Rock Ford Rd\, Clarkesville\, GA\, 30523\, United States
CATEGORIES:Golf Points
ATTACH;FMTTYPE=image/jpeg:https://mountainmangolf.com/wp-content/uploads/2021/06/JPEG_black_and_white1317-1.jpg
ORGANIZER;CN="Jimmy Goodman":MAILTO:mountainmangolfapple@gmail.com
END:VEVENT
BEGIN:VEVENT
DTSTART;TZID=America/New_York:20300805T110000
DTEND;TZID=America/New_York:20300805T170000
DTSTAMP:20260424T224039
CREATED:20250802T002000Z
LAST-MODIFIED:20251120T231723Z
UID:10001627-1912158000-1912179600@mountainmangolf.com
SUMMARY:Monday Match
DESCRIPTION:You can regester for the points match here.
URL:https://mountainmangolf.com/event/monday-match-4/2030-08-05/
LOCATION:Apple Mountain Golf club\, 901 Rock Ford Rd\, Clarkesville\, GA\, 30523\, United States
CATEGORIES:Golf Points
ATTACH;FMTTYPE=image/jpeg:https://mountainmangolf.com/wp-content/uploads/2021/06/JPEG_black_and_white1317-1.jpg
ORGANIZER;CN="Jimmy Goodman":MAILTO:mountainmangolfapple@gmail.com
END:VEVENT
BEGIN:VEVENT
DTSTART;TZID=America/New_York:20300807T110000
DTEND;TZID=America/New_York:20300807T170000
DTSTAMP:20260424T224039
CREATED:20250304T044027Z
LAST-MODIFIED:20251014T144713Z
UID:10001351-1912330800-1912352400@mountainmangolf.com
SUMMARY:Wendsday Match
DESCRIPTION:You Can Regester for the points match here.
URL:https://mountainmangolf.com/event/wensday-match/2030-08-07/
LOCATION:Apple Mountain Golf club\, 901 Rock Ford Rd\, Clarkesville\, GA\, 30523\, United States
CATEGORIES:Golf Points
ATTACH;FMTTYPE=image/jpeg:https://mountainmangolf.com/wp-content/uploads/2021/06/JPEG_black_and_white1317-1.jpg
ORGANIZER;CN="Jimmy Goodman":MAILTO:mountainmangolfapple@gmail.com
END:VEVENT
BEGIN:VEVENT
DTSTART;TZID=America/New_York:20300812T110000
DTEND;TZID=America/New_York:20300812T170000
DTSTAMP:20260424T224039
CREATED:20250802T002000Z
LAST-MODIFIED:20251120T231723Z
UID:10001628-1912762800-1912784400@mountainmangolf.com
SUMMARY:Monday Match
DESCRIPTION:You can regester for the points match here.
URL:https://mountainmangolf.com/event/monday-match-4/2030-08-12/
LOCATION:Apple Mountain Golf club\, 901 Rock Ford Rd\, Clarkesville\, GA\, 30523\, United States
CATEGORIES:Golf Points
ATTACH;FMTTYPE=image/jpeg:https://mountainmangolf.com/wp-content/uploads/2021/06/JPEG_black_and_white1317-1.jpg
ORGANIZER;CN="Jimmy Goodman":MAILTO:mountainmangolfapple@gmail.com
END:VEVENT
BEGIN:VEVENT
DTSTART;TZID=America/New_York:20300814T110000
DTEND;TZID=America/New_York:20300814T170000
DTSTAMP:20260424T224039
CREATED:20250304T044027Z
LAST-MODIFIED:20251014T144713Z
UID:10001353-1912935600-1912957200@mountainmangolf.com
SUMMARY:Wendsday Match
DESCRIPTION:You Can Regester for the points match here.
URL:https://mountainmangolf.com/event/wensday-match/2030-08-14/
LOCATION:Apple Mountain Golf club\, 901 Rock Ford Rd\, Clarkesville\, GA\, 30523\, United States
CATEGORIES:Golf Points
ATTACH;FMTTYPE=image/jpeg:https://mountainmangolf.com/wp-content/uploads/2021/06/JPEG_black_and_white1317-1.jpg
ORGANIZER;CN="Jimmy Goodman":MAILTO:mountainmangolfapple@gmail.com
END:VEVENT
END:VCALENDAR